BEGIN:VCALENDAR
VERSION:2.0
PRODID:-//Zoo Med Laboratories, Inc. - ECPv6.15.17.1//NONSGML v1.0//EN
CALSCALE:GREGORIAN
METHOD:PUBLISH
X-WR-CALNAME:Zoo Med Laboratories, Inc.
X-ORIGINAL-URL:https://zoomed.com
X-WR-CALDESC:Events for Zoo Med Laboratories, Inc.
REFRESH-INTERVAL;VALUE=DURATION:PT1H
X-Robots-Tag:noindex
X-PUBLISHED-TTL:PT1H
BEGIN:VTIMEZONE
TZID:America/Los_Angeles
BEGIN:DAYLIGHT
TZOFFSETFROM:-0800
TZOFFSETTO:-0700
TZNAME:PDT
DTSTART:20240310T100000
END:DAYLIGHT
BEGIN:STANDARD
TZOFFSETFROM:-0700
TZOFFSETTO:-0800
TZNAME:PST
DTSTART:20241103T090000
END:STANDARD
BEGIN:DAYLIGHT
TZOFFSETFROM:-0800
TZOFFSETTO:-0700
TZNAME:PDT
DTSTART:20250309T100000
END:DAYLIGHT
BEGIN:STANDARD
TZOFFSETFROM:-0700
TZOFFSETTO:-0800
TZNAME:PST
DTSTART:20251102T090000
END:STANDARD
BEGIN:DAYLIGHT
TZOFFSETFROM:-0800
TZOFFSETTO:-0700
TZNAME:PDT
DTSTART:20260308T100000
END:DAYLIGHT
BEGIN:STANDARD
TZOFFSETFROM:-0700
TZOFFSETTO:-0800
TZNAME:PST
DTSTART:20261101T090000
END:STANDARD
END:VTIMEZONE
BEGIN:VEVENT
DTSTART;VALUE=DATE:20250421
DTEND;VALUE=DATE:20250427
DTSTAMP:20260423T181654
CREATED:20240415T185214Z
LAST-MODIFIED:20250926T211726Z
UID:9004111224207930-1745193600-1745711999@zoomed.com
SUMMARY:International Turtle and Tortoise Week
DESCRIPTION:Every April\, we cohost International Turtle and Tortoise Week with our friends at the Turtle and Tortoise Preservation Group. This year\, our theme is “The Surprising World of Turtles.” \nVisit https://zoomed.com/international-turtle-and-tortoise-week-2025/ to get access to our free educational material\, and sign up for our newsletter to get daily articles\, photos\, and facts about turtles and tortoises: https://zoomed.com/newsletter-sign-up/
URL:https://zoomed.com/event/international-turtle-and-tortoise-week/
LOCATION:FL
CATEGORIES:Conferences
ATTACH;FMTTYPE=image/jpeg:https://zoomed.com/wp-content/uploads/PageBanner-ITTW.jpg
END:VEVENT
END:VCALENDAR