BEGIN:VCALENDAR
VERSION:2.0
PRODID:-//Zoo Med Laboratories, Inc. - ECPv6.15.17.1//NONSGML v1.0//EN
CALSCALE:GREGORIAN
METHOD:PUBLISH
X-WR-CALNAME:Zoo Med Laboratories, Inc.
X-ORIGINAL-URL:https://zoomed.com
X-WR-CALDESC:Events for Zoo Med Laboratories, Inc.
REFRESH-INTERVAL;VALUE=DURATION:PT1H
X-Robots-Tag:noindex
X-PUBLISHED-TTL:PT1H
BEGIN:VTIMEZONE
TZID:America/Los_Angeles
BEGIN:DAYLIGHT
TZOFFSETFROM:-0800
TZOFFSETTO:-0700
TZNAME:PDT
DTSTART:20250309T100000
END:DAYLIGHT
BEGIN:STANDARD
TZOFFSETFROM:-0700
TZOFFSETTO:-0800
TZNAME:PST
DTSTART:20251102T090000
END:STANDARD
BEGIN:DAYLIGHT
TZOFFSETFROM:-0800
TZOFFSETTO:-0700
TZNAME:PDT
DTSTART:20260308T100000
END:DAYLIGHT
BEGIN:STANDARD
TZOFFSETFROM:-0700
TZOFFSETTO:-0800
TZNAME:PST
DTSTART:20261101T090000
END:STANDARD
BEGIN:DAYLIGHT
TZOFFSETFROM:-0800
TZOFFSETTO:-0700
TZNAME:PDT
DTSTART:20270314T100000
END:DAYLIGHT
BEGIN:STANDARD
TZOFFSETFROM:-0700
TZOFFSETTO:-0800
TZNAME:PST
DTSTART:20271107T090000
END:STANDARD
END:VTIMEZONE
BEGIN:VEVENT
DTSTART;VALUE=DATE:20260110
DTEND;VALUE=DATE:20260112
DTSTAMP:20260421T195332
CREATED:20221122T205042Z
LAST-MODIFIED:20251215T163956Z
UID:33550-1768003200-1768175999@zoomed.com
SUMMARY:Reptile Super Show Pomona
DESCRIPTION:Reptile Super Show is a ginormous event that attracts people from across the globe. Open to the public\, guests who come to the event will get to:• Learn about a wide array of reptiles and amphibians.• Get the opportunity to look at 1000’s reptiles and amphibians.• Gain access to all the best supplies and housing to make these creatures a pet.• Get the chance to take home a new family member in the form of a reptile or amphibian. \nThe Reptile Super Show is meant to educate the public about pets they may otherwise never get the chance to know\, but we are also passionate about captive breeding and keeping the populations of some of the world’s most interesting creatures alive and well. Educational\, fun\, and no-doubt exciting\, the Reptile Super Show is something everyone should visit at least once. If you’re not a reptile fan when arrive\, we promise you that you will leave as one.
URL:https://zoomed.com/event/reptile-super-show-pomona-january-2026/
LOCATION:Pomona Fairplex\, 1101 W. McKinley Ave.\, Pomona\, CA\, 91768\, United States
CATEGORIES:Reptile Show
ATTACH;FMTTYPE=image/jpeg:https://zoomed.com/wp-content/uploads/reptilesupershow2.jpeg
GEO:34.081156;-117.765017
X-APPLE-STRUCTURED-LOCATION;VALUE=URI;X-ADDRESS=Pomona Fairplex 1101 W. McKinley Ave. Pomona CA 91768 United States;X-APPLE-RADIUS=500;X-TITLE=1101 W. McKinley Ave.:geo:-117.765017,34.081156
END:VEVENT
BEGIN:VEVENT
DTSTART;TZID=America/Los_Angeles:20260111T090000
DTEND;TZID=America/Los_Angeles:20260111T160000
DTSTAMP:20260421T195332
CREATED:20230329T222052Z
LAST-MODIFIED:20251215T170419Z
UID:9004111224202879-1768122000-1768147200@zoomed.com
SUMMARY:White Plains Reptile Expo
DESCRIPTION:Come see over 200+ vendor tables full of reptiles\, amphibians\, invertebrates\, cages\, tanks\, food\, supplies\, and more!
URL:https://zoomed.com/event/white-plains-reptile-expo-winter-2026/
LOCATION:Westchester County Center\, 198 Central Ave\, White Plains\, NY\, 10606\, United States
CATEGORIES:Reptile Show
ATTACH;FMTTYPE=image/jpeg:https://zoomed.com/wp-content/uploads/new-england-reptile-expo.jpeg
GEO:41.037407;-73.778404
X-APPLE-STRUCTURED-LOCATION;VALUE=URI;X-ADDRESS=Westchester County Center 198 Central Ave White Plains NY 10606 United States;X-APPLE-RADIUS=500;X-TITLE=198 Central Ave:geo:-73.778404,41.037407
END:VEVENT
BEGIN:VEVENT
DTSTART;VALUE=DATE:20260117
DTEND;VALUE=DATE:20260119
DTSTAMP:20260421T195332
CREATED:20220112T000943Z
LAST-MODIFIED:20251215T170551Z
UID:29872-1768608000-1768780799@zoomed.com
SUMMARY:ReptiCon Orlando
DESCRIPTION:Repticon Orlando is at the Central Florida State Fairgrounds this year! 50+ vendors and a huge variety of animals will be on display both Saturday and Sunday.
URL:https://zoomed.com/event/repticon-orlando-january-2026/
LOCATION:Central Florida Fairgrounds\, 4603 W Colonial Dr\, Orlando\, FL\, 32808\, United States
CATEGORIES:Reptile Show
ATTACH;FMTTYPE=image/jpeg:https://zoomed.com/wp-content/uploads/repticon.jpeg
GEO:28.555878;-81.436808
X-APPLE-STRUCTURED-LOCATION;VALUE=URI;X-ADDRESS=Central Florida Fairgrounds 4603 W Colonial Dr Orlando FL 32808 United States;X-APPLE-RADIUS=500;X-TITLE=4603 W Colonial Dr:geo:-81.436808,28.555878
END:VEVENT
BEGIN:VEVENT
DTSTART;TZID=America/Los_Angeles:20260118T100000
DTEND;TZID=America/Los_Angeles:20260118T160000
DTSTAMP:20260421T195332
CREATED:20230214T222244Z
LAST-MODIFIED:20251215T171632Z
UID:9004111223331120-1768730400-1768752000@zoomed.com
SUMMARY:Toronto Reptile and Plant Expo
DESCRIPTION:Canada’s longest running reptile event! For over 20 years\, the Canadian Reptile Expos have been promoting responsible reptile ownership as well as bringing together those that share the passion of keeping and breeding these magnificent creatures.
URL:https://zoomed.com/event/toronto-reptile-expo-january-2026/
LOCATION:International Centre\, 6900 Airport Road Hall 5\, Mississauga\, ON\, L4V 1E8\, Canada
CATEGORIES:Reptile Show
ATTACH;FMTTYPE=image/jpeg:https://zoomed.com/wp-content/uploads/toronto-reptile-expo.jpeg
GEO:43.703338;-79.633809
X-APPLE-STRUCTURED-LOCATION;VALUE=URI;X-ADDRESS=International Centre 6900 Airport Road Hall 5 Mississauga ON L4V 1E8 Canada;X-APPLE-RADIUS=500;X-TITLE=6900 Airport Road Hall 5:geo:-79.633809,43.703338
END:VEVENT
BEGIN:VEVENT
DTSTART;VALUE=DATE:20260124
DTEND;VALUE=DATE:20260126
DTSTAMP:20260421T195332
CREATED:20221122T205739Z
LAST-MODIFIED:20251215T171602Z
UID:33552-1769212800-1769385599@zoomed.com
SUMMARY:Pacific Northwest Reptile Show Puyallup
DESCRIPTION:The Pacific NW Reptile and Exotic Animal Show is a public trade show and is the largest of its kind in the Pacific Northwest.  There are four shows annually\, alternating every three months between Albany\, OR and Puyallup\, WA. Both venues boast nearly 100 vendors occupying over 25000 sq. ft. of venue space \nIn addition to animals and their related merchandise for sale\, PACNWRS events provide the best educational displays available in the area. PACNWRS events are a great weekend for the beginner keeper to the advanced hobbyist\, and everyone in between. Bring the whole family for a truly unique experience! \nPACNWRS has been providing at the NW large vendor showcase for over 25 years and we are proud to say that we have seen more than 250\,000 attendees since we started. Our close relationship with vendors and exhibitors has allowed us to offer our guests a wide variety of products and animals that are sure to impress any level of enthusiasts. \nAs a family-friendly event we try to provide activities and education for guests of all ages and interests. Check our Facebook page regularly and sign up for email updates to stay on top of our show events and programs. There is always something exciting happening at the Pacific NW Reptile and Exotic Animal Show!
URL:https://zoomed.com/event/pacific-northwest-reptile-show-puyallup-january-2026/
LOCATION:Washington State Fairgrounds\, 110 9th Ave\, Puyallup\, WA\, 98317\, United States
CATEGORIES:Reptile Show
ATTACH;FMTTYPE=image/jpeg:https://zoomed.com/wp-content/uploads/pacnwrs-logo.jpeg
GEO:47.184589;-122.294345
X-APPLE-STRUCTURED-LOCATION;VALUE=URI;X-ADDRESS=Washington State Fairgrounds 110 9th Ave Puyallup WA 98317 United States;X-APPLE-RADIUS=500;X-TITLE=110 9th Ave:geo:-122.294345,47.184589
END:VEVENT
BEGIN:VEVENT
DTSTART;VALUE=DATE:20260131
DTEND;VALUE=DATE:20260202
DTSTAMP:20260421T195332
CREATED:20241216T173120Z
LAST-MODIFIED:20251215T171746Z
UID:9004111224210878-1769817600-1769990399@zoomed.com
SUMMARY:Southeast Reptile Expo
DESCRIPTION:One of the largest reptile expos in Georgia! It’s the perfect family-friendly event to see reptiles\, amphibians\, exotic plants\, and more! Doors are open Saturday and Sunday 10-5.
URL:https://zoomed.com/event/southeast-reptile-expo/
LOCATION:Gas South Convention Center\, 6400 Sugarloaf Parkway\, Duluth\, GA\, 30097\, United States
CATEGORIES:Reptile Show
ATTACH;FMTTYPE=image/jpeg:https://zoomed.com/wp-content/uploads/southeast-reptile-expo.jpg
END:VEVENT
END:VCALENDAR