BEGIN:VCALENDAR
VERSION:2.0
PRODID:-//Zoo Med Laboratories, Inc. - ECPv6.15.17.1//NONSGML v1.0//EN
CALSCALE:GREGORIAN
METHOD:PUBLISH
X-ORIGINAL-URL:https://zoomed.com
X-WR-CALDESC:Events for Zoo Med Laboratories, Inc.
REFRESH-INTERVAL;VALUE=DURATION:PT1H
X-Robots-Tag:noindex
X-PUBLISHED-TTL:PT1H
BEGIN:VTIMEZONE
TZID:America/Los_Angeles
BEGIN:DAYLIGHT
TZOFFSETFROM:-0800
TZOFFSETTO:-0700
TZNAME:PDT
DTSTART:20250309T100000
END:DAYLIGHT
BEGIN:STANDARD
TZOFFSETFROM:-0700
TZOFFSETTO:-0800
TZNAME:PST
DTSTART:20251102T090000
END:STANDARD
BEGIN:DAYLIGHT
TZOFFSETFROM:-0800
TZOFFSETTO:-0700
TZNAME:PDT
DTSTART:20260308T100000
END:DAYLIGHT
BEGIN:STANDARD
TZOFFSETFROM:-0700
TZOFFSETTO:-0800
TZNAME:PST
DTSTART:20261101T090000
END:STANDARD
BEGIN:DAYLIGHT
TZOFFSETFROM:-0800
TZOFFSETTO:-0700
TZNAME:PDT
DTSTART:20270314T100000
END:DAYLIGHT
BEGIN:STANDARD
TZOFFSETFROM:-0700
TZOFFSETTO:-0800
TZNAME:PST
DTSTART:20271107T090000
END:STANDARD
END:VTIMEZONE
BEGIN:VEVENT
DTSTART;VALUE=DATE:20260131
DTEND;VALUE=DATE:20260202
DTSTAMP:20260421T180446
CREATED:20241216T173120Z
LAST-MODIFIED:20251215T171746Z
UID:9004111224210878-1769817600-1769990399@zoomed.com
SUMMARY:Southeast Reptile Expo
DESCRIPTION:One of the largest reptile expos in Georgia! It’s the perfect family-friendly event to see reptiles\, amphibians\, exotic plants\, and more! Doors are open Saturday and Sunday 10-5.
URL:https://zoomed.com/event/southeast-reptile-expo/
LOCATION:Gas South Convention Center\, 6400 Sugarloaf Parkway\, Duluth\, GA\, 30097\, United States
CATEGORIES:Reptile Show
ATTACH;FMTTYPE=image/jpeg:https://zoomed.com/wp-content/uploads/southeast-reptile-expo.jpg
END:VEVENT
BEGIN:VEVENT
DTSTART;TZID=America/Los_Angeles:20260201T090000
DTEND;TZID=America/Los_Angeles:20260201T160000
DTSTAMP:20260421T180446
CREATED:20230215T013348Z
LAST-MODIFIED:20251215T172308Z
UID:9004111223334787-1769936400-1769961600@zoomed.com
SUMMARY:New England Reptile Expo
DESCRIPTION:Come see over 200+ vendor tables full of reptiles\, amphibians\, invertebrates\, cages\, tanks\, food\, supplies\, and more!
URL:https://zoomed.com/event/new-england-reptile-expo-feb-2026/
LOCATION:Double Tree Hotel Manchester Downtown\, 700 Elm St\, Manchester\, NH\, 03101\, United States
CATEGORIES:Reptile Show
ATTACH;FMTTYPE=image/jpeg:https://zoomed.com/wp-content/uploads/new-england-reptile-expo.jpeg
GEO:42.988477;-71.464236
X-APPLE-STRUCTURED-LOCATION;VALUE=URI;X-ADDRESS=Double Tree Hotel Manchester Downtown 700 Elm St Manchester NH 03101 United States;X-APPLE-RADIUS=500;X-TITLE=700 Elm St:geo:-71.464236,42.988477
END:VEVENT
BEGIN:VEVENT
DTSTART;VALUE=DATE:20260221
DTEND;VALUE=DATE:20260223
DTSTAMP:20260421T180446
CREATED:20231211T231845Z
LAST-MODIFIED:20251215T172504Z
UID:9004111224206252-1771632000-1771804799@zoomed.com
SUMMARY:ReptiCon Tampa
DESCRIPTION:Join us in Tampa\, Florida for Repticon! Doors are open 9-4 Saturday and 10-4 Sunday. See live animals from around the world\, purchase pets and pet products direct from the experts at amazing prices you won’t find anywhere else\, and learn more about reptiles and exotic animals at live seminars and demonstrations.
URL:https://zoomed.com/event/repticon-tampa-feb-2026/
LOCATION:Florida State Fairgrounds\, 4800 N US Highway 301\, Tampa\, FL\, 33610\, United States
CATEGORIES:Reptile Show
ATTACH;FMTTYPE=image/jpeg:https://zoomed.com/wp-content/uploads/repticon.jpeg
GEO:27.990078;-82.365
X-APPLE-STRUCTURED-LOCATION;VALUE=URI;X-ADDRESS=Florida State Fairgrounds 4800 N US Highway 301 Tampa FL 33610 United States;X-APPLE-RADIUS=500;X-TITLE=4800 N US Highway 301:geo:-82.365,27.990078
END:VEVENT
END:VCALENDAR