BEGIN:VCALENDAR
VERSION:2.0
PRODID:-//Zoo Med Laboratories, Inc. - ECPv6.15.17.1//NONSGML v1.0//EN
CALSCALE:GREGORIAN
METHOD:PUBLISH
X-WR-CALNAME:Zoo Med Laboratories, Inc.
X-ORIGINAL-URL:https://zoomed.com
X-WR-CALDESC:Events for Zoo Med Laboratories, Inc.
REFRESH-INTERVAL;VALUE=DURATION:PT1H
X-Robots-Tag:noindex
X-PUBLISHED-TTL:PT1H
BEGIN:VTIMEZONE
TZID:America/Los_Angeles
BEGIN:DAYLIGHT
TZOFFSETFROM:-0800
TZOFFSETTO:-0700
TZNAME:PDT
DTSTART:20250309T100000
END:DAYLIGHT
BEGIN:STANDARD
TZOFFSETFROM:-0700
TZOFFSETTO:-0800
TZNAME:PST
DTSTART:20251102T090000
END:STANDARD
BEGIN:DAYLIGHT
TZOFFSETFROM:-0800
TZOFFSETTO:-0700
TZNAME:PDT
DTSTART:20260308T100000
END:DAYLIGHT
BEGIN:STANDARD
TZOFFSETFROM:-0700
TZOFFSETTO:-0800
TZNAME:PST
DTSTART:20261101T090000
END:STANDARD
BEGIN:DAYLIGHT
TZOFFSETFROM:-0800
TZOFFSETTO:-0700
TZNAME:PDT
DTSTART:20270314T100000
END:DAYLIGHT
BEGIN:STANDARD
TZOFFSETFROM:-0700
TZOFFSETTO:-0800
TZNAME:PST
DTSTART:20271107T090000
END:STANDARD
END:VTIMEZONE
BEGIN:VEVENT
DTSTART;VALUE=DATE:20260516
DTEND;VALUE=DATE:20260518
DTSTAMP:20260421T162133
CREATED:20231211T201002Z
LAST-MODIFIED:20251215T175043Z
UID:9004111224206163-1778889600-1779062399@zoomed.com
SUMMARY:Cascadia Reptile Expo - Washington
DESCRIPTION:Come out for the first Cascadia Reptile Expo and experience an incredible weekend in Bremerton. Thousands of reptiles\, amphibians\, and exotic animals on display and for sale (along with everything needed for their proper care).
URL:https://zoomed.com/event/cascadia-reptile-expo-washington/
LOCATION:Kitsap Sun Pavilion\, 1200 Fairgrounds Rd NW\, Bremerton\, WA\, 98311\, United States
CATEGORIES:Reptile Show
ATTACH;FMTTYPE=image/jpeg:https://zoomed.com/wp-content/uploads/Cascadia_logo-01.jpg
GEO:47.633556868036;-122.66404878717
X-APPLE-STRUCTURED-LOCATION;VALUE=URI;X-ADDRESS=Kitsap Sun Pavilion 1200 Fairgrounds Rd NW Bremerton WA 98311 United States;X-APPLE-RADIUS=500;X-TITLE=1200 Fairgrounds Rd NW:geo:-122.66404878717,47.633556868036
END:VEVENT
BEGIN:VEVENT
DTSTART;VALUE=DATE:20260523
DTEND;VALUE=DATE:20260525
DTSTAMP:20260421T162133
CREATED:20231211T210055Z
LAST-MODIFIED:20251215T175123Z
UID:9004111224206164-1779494400-1779667199@zoomed.com
SUMMARY:ReptiCon Raleigh
DESCRIPTION:Join us in Raleigh\, NC for ReptiCon! Doors are open 9-4 Saturday and 10-4 Sunday. See live animals from around the world\, purchase pets and pet products direct from the experts at amazing prices you won’t find anywhere else\, and learn more about reptiles and exotic animals at live seminars and demonstrations.
URL:https://zoomed.com/event/repticon-raleigh-may-2026/
LOCATION:North Carolina State Fairgrounds – Exposition Center\, 4285 Trinity Road\, Raleigh\, NC\, 27607\, United States
CATEGORIES:Reptile Show
ATTACH;FMTTYPE=image/jpeg:https://zoomed.com/wp-content/uploads/repticon2.jpeg
GEO:35.794924;-78.711975
X-APPLE-STRUCTURED-LOCATION;VALUE=URI;X-ADDRESS=North Carolina State Fairgrounds – Exposition Center 4285 Trinity Road Raleigh NC 27607 United States;X-APPLE-RADIUS=500;X-TITLE=4285 Trinity Road:geo:-78.711975,35.794924
END:VEVENT
BEGIN:VEVENT
DTSTART;VALUE=DATE:20260531
DTEND;VALUE=DATE:20260601
DTSTAMP:20260421T162133
CREATED:20250430T162256Z
LAST-MODIFIED:20251215T175225Z
UID:9004111224212484-1780185600-1780271999@zoomed.com
SUMMARY:Toronto Reptile and Plant Expo
DESCRIPTION:Canada’s longest running reptile event! For over 20 years\, the Canadian Reptile Expos have been promoting responsible reptile ownership as well as bringing together those that share the passion of keeping and breeding these magnificent creatures.
URL:https://zoomed.com/event/toronto-reptile-expo-may-2026/
LOCATION:International Centre\, 6900 Airport Road Hall 5\, Mississauga\, ON\, L4V 1E8\, Canada
CATEGORIES:Reptile Show
ATTACH;FMTTYPE=image/jpeg:https://zoomed.com/wp-content/uploads/toronto-reptile-expo.jpeg
GEO:43.703338;-79.633809
X-APPLE-STRUCTURED-LOCATION;VALUE=URI;X-ADDRESS=International Centre 6900 Airport Road Hall 5 Mississauga ON L4V 1E8 Canada;X-APPLE-RADIUS=500;X-TITLE=6900 Airport Road Hall 5:geo:-79.633809,43.703338
END:VEVENT
END:VCALENDAR