BEGIN:VCALENDAR
VERSION:2.0
PRODID:-//Zoo Med Laboratories, Inc. - ECPv6.15.17.1//NONSGML v1.0//EN
CALSCALE:GREGORIAN
METHOD:PUBLISH
X-ORIGINAL-URL:https://zoomed.com
X-WR-CALDESC:Events for Zoo Med Laboratories, Inc.
REFRESH-INTERVAL;VALUE=DURATION:PT1H
X-Robots-Tag:noindex
X-PUBLISHED-TTL:PT1H
BEGIN:VTIMEZONE
TZID:America/Los_Angeles
BEGIN:DAYLIGHT
TZOFFSETFROM:-0800
TZOFFSETTO:-0700
TZNAME:PDT
DTSTART:20230312T100000
END:DAYLIGHT
BEGIN:STANDARD
TZOFFSETFROM:-0700
TZOFFSETTO:-0800
TZNAME:PST
DTSTART:20231105T090000
END:STANDARD
BEGIN:DAYLIGHT
TZOFFSETFROM:-0800
TZOFFSETTO:-0700
TZNAME:PDT
DTSTART:20240310T100000
END:DAYLIGHT
BEGIN:STANDARD
TZOFFSETFROM:-0700
TZOFFSETTO:-0800
TZNAME:PST
DTSTART:20241103T090000
END:STANDARD
BEGIN:DAYLIGHT
TZOFFSETFROM:-0800
TZOFFSETTO:-0700
TZNAME:PDT
DTSTART:20250309T100000
END:DAYLIGHT
BEGIN:STANDARD
TZOFFSETFROM:-0700
TZOFFSETTO:-0800
TZNAME:PST
DTSTART:20251102T090000
END:STANDARD
BEGIN:DAYLIGHT
TZOFFSETFROM:-0800
TZOFFSETTO:-0700
TZNAME:PDT
DTSTART:20260308T100000
END:DAYLIGHT
BEGIN:STANDARD
TZOFFSETFROM:-0700
TZOFFSETTO:-0800
TZNAME:PST
DTSTART:20261101T090000
END:STANDARD
END:VTIMEZONE
BEGIN:VEVENT
DTSTART;VALUE=DATE:20251018
DTEND;VALUE=DATE:20251020
DTSTAMP:20260421T150132
CREATED:20240925T220455Z
LAST-MODIFIED:20250926T200414Z
UID:9004111224209904-1760745600-1760918399@zoomed.com
SUMMARY:AquaExpo
DESCRIPTION:Aquatic expo hosted by the Golden Coast Aquarium Society in Coral Springs\, FL. There will be lots of tropical fish\, aquatic plants\, shrimp\, decorations\, artwork\, and more! Happening Saturday 12-5 and Sunday 11-4.
URL:https://zoomed.com/event/aqua-expo/
LOCATION:La Quinta Inn & Suites\, 3701 N University Dr\, Coral Springs\, FL\, 33065
CATEGORIES:Aquatic Show,Shows
ATTACH;FMTTYPE=image/jpeg:https://zoomed.com/wp-content/uploads/GCAS_AquaExpo_2025.jpg
END:VEVENT
BEGIN:VEVENT
DTSTART;VALUE=DATE:20241102
DTEND;VALUE=DATE:20241104
DTSTAMP:20260421T150132
CREATED:20220112T000412Z
LAST-MODIFIED:20231211T231516Z
UID:29867-1730505600-1730678399@zoomed.com
SUMMARY:AquaShella Daytona
DESCRIPTION:AquaShella showcases the underwater world of freshwater and saltwater aquariums. You’ll be greeted by the best aquarium vendors\, artists\, speakers\, and influencers from across the country!
URL:https://zoomed.com/event/aquashella-daytona-2024/
LOCATION:Ocean Center\, 101 N. Atlantic Ave\, Daytona Beach\, FL\, 32118\, United States
CATEGORIES:Aquatic Show
ATTACH;FMTTYPE=image/jpeg:https://zoomed.com/wp-content/uploads/aquashella-logo-3.jpg
GEO:29.228719;-81.010202
X-APPLE-STRUCTURED-LOCATION;VALUE=URI;X-ADDRESS=Ocean Center 101 N. Atlantic Ave Daytona Beach FL 32118 United States;X-APPLE-RADIUS=500;X-TITLE=101 N. Atlantic Ave:geo:-81.010202,29.228719
END:VEVENT
BEGIN:VEVENT
DTSTART;VALUE=DATE:20240622
DTEND;VALUE=DATE:20240624
DTSTAMP:20260421T150132
CREATED:20230526T190003Z
LAST-MODIFIED:20240617T235233Z
UID:9004111224203658-1719014400-1719187199@zoomed.com
SUMMARY:FinDig (Sacramento Aquarium Society)
DESCRIPTION:FIN-DIG 2024 is a two-day event hosted by the Sacramento Aquarium Society\, featuring world-renowned speakers! The event will include a Vendor Room\, special Rare Fish Auction\, raffles Saturday and Sunday\, and on Sunday\, a big Mega Auction to close us out! This is your chance to hang with fellow aquarium enthusiasts\, enjoy great presentations\, pick up fish\, plants\, aquarium equipment and fish foods\, and more! Start your summer right; come join us\, because it will be a blow out! Open Saturday 9-7 & Sunday 9-2
URL:https://zoomed.com/event/fin-dig/
LOCATION:Lions Gate Hotel\, 3410 Westover St\, McClellan Park\, CA\, 95652\, United States
CATEGORIES:Aquatic Show,Conferences
ATTACH;FMTTYPE=image/jpeg:https://zoomed.com/wp-content/uploads/Transparent-FIN-DIG-Text-Logo_620x300.jpg
GEO:38.663807864033;-121.38415280104
X-APPLE-STRUCTURED-LOCATION;VALUE=URI;X-ADDRESS=Lions Gate Hotel 3410 Westover St McClellan Park CA 95652 United States;X-APPLE-RADIUS=500;X-TITLE=3410 Westover St:geo:-121.38415280104,38.663807864033
END:VEVENT
BEGIN:VEVENT
DTSTART;VALUE=DATE:20240405
DTEND;VALUE=DATE:20240408
DTSTAMP:20260421T150132
CREATED:20231212T000129Z
LAST-MODIFIED:20231212T000201Z
UID:9004111224206286-1712275200-1712534399@zoomed.com
SUMMARY:Northeast Council Aquarium Societies 45th Annual Conference
DESCRIPTION:The NEC’s Annual Convention is an opportunity to gather knowledge related to our hobby\, meet that special speaker\, mingle with long-time hobbyists and share your experiences with newcomers in the hobby. We encourage everyone to expand your knowledge and socialize with the friendly group who appear year after year; this is an educational and social weekend open to all and we invite you to come experience the NEC’s Annual Convention this year!
URL:https://zoomed.com/event/northeast-council-aquarium-societies-45th-annual-conference/
LOCATION:Mystic Marriott Hotel and Spa\, 625 N Rd\, Groton\, CT\, 06340\, United States
CATEGORIES:Aquatic Show,Conferences
ATTACH;FMTTYPE=image/jpeg:https://zoomed.com/wp-content/uploads/save-the-date-flyer-2024-nec-8.5x11-v2-scaled-1.jpg
GEO:41.365082127187;-72.025123302785
X-APPLE-STRUCTURED-LOCATION;VALUE=URI;X-ADDRESS=Mystic Marriott Hotel and Spa 625 N Rd Groton CT 06340 United States;X-APPLE-RADIUS=500;X-TITLE=625 N Rd:geo:-72.025123302785,41.365082127187
END:VEVENT
BEGIN:VEVENT
DTSTART;VALUE=DATE:20240404
DTEND;VALUE=DATE:20240408
DTSTAMP:20260421T150132
CREATED:20231212T002657Z
LAST-MODIFIED:20231212T004344Z
UID:9004111224206290-1712188800-1712534399@zoomed.com
SUMMARY:Aquatic Gardners Association Conference
DESCRIPTION:The 2024 AGA Convention\, hosted by the Raleigh Aquarium Society\, will be held at the Raleigh North Hills Hilton\, April 4-7\, 2024! There will be speakers\, aquascaping demos\, workshops\, auctions\, and more!
URL:https://zoomed.com/event/aquatic-gardners-association-conference/
LOCATION:Raleigh North Hills Hilton\, 3415 Wake Forest Rd\, Raleigh\, NC\, 27609\, United States
CATEGORIES:Aquatic Show,Conferences
ATTACH;FMTTYPE=image/jpeg:https://zoomed.com/wp-content/uploads/AGA-2024-logo.jpg
GEO:35.830055977282;-78.620551560863
X-APPLE-STRUCTURED-LOCATION;VALUE=URI;X-ADDRESS=Raleigh North Hills Hilton 3415 Wake Forest Rd Raleigh NC 27609 United States;X-APPLE-RADIUS=500;X-TITLE=3415 Wake Forest Rd:geo:-78.620551560863,35.830055977282
END:VEVENT
END:VCALENDAR