BEGIN:VCALENDAR
VERSION:2.0
PRODID:-//Zoo Med Laboratories, Inc. - ECPv6.15.17.1//NONSGML v1.0//EN
CALSCALE:GREGORIAN
METHOD:PUBLISH
X-WR-CALNAME:Zoo Med Laboratories, Inc.
X-ORIGINAL-URL:https://zoomed.com
X-WR-CALDESC:Events for Zoo Med Laboratories, Inc.
REFRESH-INTERVAL;VALUE=DURATION:PT1H
X-Robots-Tag:noindex
X-PUBLISHED-TTL:PT1H
BEGIN:VTIMEZONE
TZID:America/Los_Angeles
BEGIN:DAYLIGHT
TZOFFSETFROM:-0800
TZOFFSETTO:-0700
TZNAME:PDT
DTSTART:20250309T100000
END:DAYLIGHT
BEGIN:STANDARD
TZOFFSETFROM:-0700
TZOFFSETTO:-0800
TZNAME:PST
DTSTART:20251102T090000
END:STANDARD
BEGIN:DAYLIGHT
TZOFFSETFROM:-0800
TZOFFSETTO:-0700
TZNAME:PDT
DTSTART:20260308T100000
END:DAYLIGHT
BEGIN:STANDARD
TZOFFSETFROM:-0700
TZOFFSETTO:-0800
TZNAME:PST
DTSTART:20261101T090000
END:STANDARD
BEGIN:DAYLIGHT
TZOFFSETFROM:-0800
TZOFFSETTO:-0700
TZNAME:PDT
DTSTART:20270314T100000
END:DAYLIGHT
BEGIN:STANDARD
TZOFFSETFROM:-0700
TZOFFSETTO:-0800
TZNAME:PST
DTSTART:20271107T090000
END:STANDARD
END:VTIMEZONE
BEGIN:VEVENT
DTSTART;VALUE=DATE:20260625
DTEND;VALUE=DATE:20260629
DTSTAMP:20260421T132430
CREATED:20251215T212307Z
LAST-MODIFIED:20251215T212307Z
UID:9004111224215649-1782345600-1782691199@zoomed.com
SUMMARY:Bluegrass Bash Fish Convention
DESCRIPTION:This convention gathers members from several freshwater fish organizations to offer expert speakers\, workshops\, fish sales\, and field trips to fish facilities. The organizations attending will be The American Cichlid Association\, American Livebearers Assocation\, and the International Betta Congress. \nAmerican Cichlid Association\n\n\n\n\n\n\nThe American Cichlid Association (ACA) is dedicated to advancing knowledge\, study\, and conservation of cichlid fishes—both in the wild and within the aquarium hobby—by organizing information\, funding research and habitat protection\, and facilitating acquisition and exchange of specimens among members. Comprising aquarists\, scientists\, educators\, and conservationists\, the ACA supports both sustainable wild collection and aquaculture to maintain genetic diversity\, introduce new species\, and provide economic incentives for habitat preservation\, aligning with IUCN principles. \n\n\n\n\n\n\n\n\n\nAmerican Livebearers Association\n\n\n\n\n\n\nThe exclusive objectives of the Association are to advance the science of ichthyology by stimulating interest in and encouraging study of freshwater livebearing fishes\, including the families Poeciliidae\, Anablepidae\, Goodeidae and Hemirhamphidae; to gather information concerning livebearers; to publish a journal on a regular basis containing original and other educational articles covering livebearers and their maintenance and breeding; to provide a means for exchange of information among individuals; to further the preservation of livebearers through both conservation of their natural habitats and an ongoing program of breeding and maintenance of individual livebearer species and varieties; and to provide a means for the purchase\, sale and exchange of livebearers by individuals.\n\n\n\n\n\n\n\n\n\nInternational Betta Congress\n\n\n\n\n\n\n\n\nThe International Betta Congress (IBC) is a worldwide union of Betta-lovers and breeders. It was founded in the United States in 1966 by Dr. Gene Lucas (known as the father of the IBC) and others as a non-profit organization with the goal of promoting bettas and researching them. The first international betta show took place in 1967 with a large participation of 60 IBC members and another 150 interested breeders. At that first show\, there were over 200 fish judged.\n  \nA year later\, there were 120 members and a team of 12 directors. The organization’s magazine FLARE! was brought to life\, and a Class Standard was developed to allow fair and equal judgment during shows.\n  \nToday\, the IBC exists in all parts of the world\, with the largest memberships being in the United States (Area 1)\, Asia (Area 6)\, and Europe (Area 2). We have over 50 certified judges who are represented in every continent\, and every month there are several sanctioned shows taking place somewhere around the globe. Shows draw on average between 300 – 1400 bettas.
URL:https://zoomed.com/event/bluegrass-bash-fish-convention/
LOCATION:Clarion Hotel Conference Center North\, 1950 Newtown Pike\, Lexington\, KY\, 40511\, United States
CATEGORIES:Aquatic Show,Conferences,Shows
ATTACH;FMTTYPE=image/jpeg:https://zoomed.com/wp-content/uploads/bluegrass-bash-logo-ai.jpg
END:VEVENT
BEGIN:VEVENT
DTSTART;VALUE=DATE:20260711
DTEND;VALUE=DATE:20260713
DTSTAMP:20260421T132430
CREATED:20221207T221038Z
LAST-MODIFIED:20251215T183018Z
UID:33779-1783728000-1783900799@zoomed.com
SUMMARY:LA Pet Fair
DESCRIPTION:Reptile Super Show has quadrupled to create a mega expo! In addition to the Summer Reptile Super Show\, there will be a Succulent Super Show\, Aquarium Super Show\, and Bird Super Show all in one place. \nWith access to thousands of animals and all of the supplies you need to create a comfortable and healthy home habitat\, we make it possible for our visitors to browse almost any kind of animal. Each one of our events is a celebration of all things pet and whether you’re new or you’re looking to expand your collection. With more than 6 acres of space dedicated to fish\, birds\, reptiles\, succulents\, supplies\, educational workshops\, cages and more\, you won’t want to miss out when the LA Pet Fair is in town.
URL:https://zoomed.com/event/la-pet-fair/
LOCATION:Pomona Fairplex\, 1101 W. McKinley Ave.\, Pomona\, CA\, 91768\, United States
CATEGORIES:Aquatic Show,Avian Shows,Insect Shows,Reptile Show
ATTACH;FMTTYPE=image/jpeg:https://zoomed.com/wp-content/uploads/lapetfair.jpg
GEO:34.081156;-117.765017
X-APPLE-STRUCTURED-LOCATION;VALUE=URI;X-ADDRESS=Pomona Fairplex 1101 W. McKinley Ave. Pomona CA 91768 United States;X-APPLE-RADIUS=500;X-TITLE=1101 W. McKinley Ave.:geo:-117.765017,34.081156
END:VEVENT
BEGIN:VEVENT
DTSTART;VALUE=DATE:20260718
DTEND;VALUE=DATE:20260720
DTSTAMP:20260421T132430
CREATED:20251215T185814Z
LAST-MODIFIED:20251218T000754Z
UID:9004111224215641-1784332800-1784505599@zoomed.com
SUMMARY:Xain's World Expo
DESCRIPTION:Join us at the Reptile & Exotic Plant Mega Show at the Fairgrounds in West Palm Beach! This exciting event brings together reptile enthusiasts\, exotic plant lovers\, tropical fish and aquarium hobbyists and nature aficionados for a weekend filled with unique vendors\, incredible species\, and stunning plants. Whether you’re looking to expand your collection or discover something new\, the Mega Show offers an unparalleled experience for all ages. Don’t miss out on this one-of-a-kind event.
URL:https://zoomed.com/event/xians-world-expo/
LOCATION:South Florida Expo Center at the South Florida Fairgrounds\, 9067 Southern Boulevard\, West Palm Beach\, FL\, 33411\, United States
CATEGORIES:Aquatic Show,Insect Shows,Reptile Show
ATTACH;FMTTYPE=image/jpeg:https://zoomed.com/wp-content/uploads/xains-world-expo.jpg
GEO:26.681875;-80.189778
X-APPLE-STRUCTURED-LOCATION;VALUE=URI;X-ADDRESS=South Florida Expo Center at the South Florida Fairgrounds 9067 Southern Boulevard West Palm Beach FL 33411 United States;X-APPLE-RADIUS=500;X-TITLE=9067 Southern Boulevard:geo:-80.189778,26.681875
END:VEVENT
END:VCALENDAR