BEGIN:VCALENDAR
VERSION:2.0
PRODID:-//Zoo Med Laboratories, Inc. - ECPv6.15.17.1//NONSGML v1.0//EN
CALSCALE:GREGORIAN
METHOD:PUBLISH
X-ORIGINAL-URL:https://zoomed.com
X-WR-CALDESC:Events for Zoo Med Laboratories, Inc.
REFRESH-INTERVAL;VALUE=DURATION:PT1H
X-Robots-Tag:noindex
X-PUBLISHED-TTL:PT1H
BEGIN:VTIMEZONE
TZID:America/Los_Angeles
BEGIN:DAYLIGHT
TZOFFSETFROM:-0800
TZOFFSETTO:-0700
TZNAME:PDT
DTSTART:20250309T100000
END:DAYLIGHT
BEGIN:STANDARD
TZOFFSETFROM:-0700
TZOFFSETTO:-0800
TZNAME:PST
DTSTART:20251102T090000
END:STANDARD
BEGIN:DAYLIGHT
TZOFFSETFROM:-0800
TZOFFSETTO:-0700
TZNAME:PDT
DTSTART:20260308T100000
END:DAYLIGHT
BEGIN:STANDARD
TZOFFSETFROM:-0700
TZOFFSETTO:-0800
TZNAME:PST
DTSTART:20261101T090000
END:STANDARD
BEGIN:DAYLIGHT
TZOFFSETFROM:-0800
TZOFFSETTO:-0700
TZNAME:PDT
DTSTART:20270314T100000
END:DAYLIGHT
BEGIN:STANDARD
TZOFFSETFROM:-0700
TZOFFSETTO:-0800
TZNAME:PST
DTSTART:20271107T090000
END:STANDARD
END:VTIMEZONE
BEGIN:VEVENT
DTSTART;VALUE=DATE:20260307
DTEND;VALUE=DATE:20260309
DTSTAMP:20260421T132101
CREATED:20231209T005238Z
LAST-MODIFIED:20251215T172709Z
UID:9004111224206154-1772841600-1773014399@zoomed.com
SUMMARY:NARBC Dallas
DESCRIPTION:The North American Reptile Breeders Conference & Trade Show is a trade show where many of the top breeders from all over the world come to showcase & sell their captive born reptiles to the public. \n  \nDoors are open Saturday 10-5 and Sunday 11-4
URL:https://zoomed.com/event/narbc-dallas-march-2026/
LOCATION:Dallas Market Center\, 2100 N. Stemmons Fwy\, Dallas\, TX\, 75207\, United States
CATEGORIES:Reptile Show
ATTACH;FMTTYPE=image/jpeg:https://zoomed.com/wp-content/uploads/narbc-logo.jpg
GEO:32.804353426629;-96.826882688456
X-APPLE-STRUCTURED-LOCATION;VALUE=URI;X-ADDRESS=Dallas Market Center 2100 N. Stemmons Fwy Dallas TX 75207 United States;X-APPLE-RADIUS=500;X-TITLE=2100 N. Stemmons Fwy:geo:-96.826882688456,32.804353426629
END:VEVENT
BEGIN:VEVENT
DTSTART;VALUE=DATE:20260314
DTEND;VALUE=DATE:20260316
DTSTAMP:20260421T132101
CREATED:20221122T211409Z
LAST-MODIFIED:20251215T172810Z
UID:33558-1773446400-1773619199@zoomed.com
SUMMARY:NARBC Tinley Park
DESCRIPTION:The North American Reptile Breeders Conference & Trade Show is a Trade Show where many of the top breeders from all over the World come to showcase & sell their Captive Born Reptiles to the public. If you want to see the Worlds Best Breeders\, dry goods manufacturers\, cricket growers\, art dealers and clothing manufacturers this is the place to do it at DEEPLY discounted breeder direct pricing. GREAT FAMILY EVENT! \n  \nDoors are open Saturday 10-5 and Sunday 11-4.
URL:https://zoomed.com/event/narbc-tinley-park-march-2026/
LOCATION:Tinley Park Convention Center\, 18451 Convention Center Drive\, Tinley Park\, IL\, 60477\, United States
CATEGORIES:Reptile Show
ATTACH;FMTTYPE=image/jpeg:https://zoomed.com/wp-content/uploads/narbc-logo.jpg
GEO:41.555712;-87.788401
X-APPLE-STRUCTURED-LOCATION;VALUE=URI;X-ADDRESS=Tinley Park Convention Center 18451 Convention Center Drive Tinley Park IL 60477 United States;X-APPLE-RADIUS=500;X-TITLE=18451 Convention Center Drive:geo:-87.788401,41.555712
END:VEVENT
BEGIN:VEVENT
DTSTART;TZID=America/Los_Angeles:20260328T100000
DTEND;TZID=America/Los_Angeles:20260328T160000
DTSTAMP:20260421T132101
CREATED:20221122T210421Z
LAST-MODIFIED:20251215T172953Z
UID:33554-1774692000-1774713600@zoomed.com
SUMMARY:Rexpo
DESCRIPTION:REXPO has captive bred reptiles\, amphibians\, arachnids\, other invertebrates and some rarer mammals in the hobby. Let’s not forget that REXPO offers every type of feeder on the market to keep your pets healthy for years to come!
URL:https://zoomed.com/event/rexpo/
LOCATION:The ROC Dome Arena\, 2695 E Henrietta Rd\, Henrietta\, NY\, 14467\, United States
CATEGORIES:Reptile Show
ATTACH;FMTTYPE=image/png:https://zoomed.com/wp-content/uploads/rexpo.png
GEO:43.065780796389;-77.613236473878
X-APPLE-STRUCTURED-LOCATION;VALUE=URI;X-ADDRESS=The ROC Dome Arena 2695 E Henrietta Rd Henrietta NY 14467 United States;X-APPLE-RADIUS=500;X-TITLE=2695 E Henrietta Rd:geo:-77.613236473878,43.065780796389
END:VEVENT
END:VCALENDAR