BEGIN:VCALENDAR
VERSION:2.0
PRODID:-//Zoo Med Laboratories, Inc. - ECPv6.15.17.1//NONSGML v1.0//EN
CALSCALE:GREGORIAN
METHOD:PUBLISH
X-WR-CALNAME:Zoo Med Laboratories, Inc.
X-ORIGINAL-URL:https://zoomed.com
X-WR-CALDESC:Events for Zoo Med Laboratories, Inc.
REFRESH-INTERVAL;VALUE=DURATION:PT1H
X-Robots-Tag:noindex
X-PUBLISHED-TTL:PT1H
BEGIN:VTIMEZONE
TZID:America/Los_Angeles
BEGIN:DAYLIGHT
TZOFFSETFROM:-0800
TZOFFSETTO:-0700
TZNAME:PDT
DTSTART:20250309T100000
END:DAYLIGHT
BEGIN:STANDARD
TZOFFSETFROM:-0700
TZOFFSETTO:-0800
TZNAME:PST
DTSTART:20251102T090000
END:STANDARD
BEGIN:DAYLIGHT
TZOFFSETFROM:-0800
TZOFFSETTO:-0700
TZNAME:PDT
DTSTART:20260308T100000
END:DAYLIGHT
BEGIN:STANDARD
TZOFFSETFROM:-0700
TZOFFSETTO:-0800
TZNAME:PST
DTSTART:20261101T090000
END:STANDARD
BEGIN:DAYLIGHT
TZOFFSETFROM:-0800
TZOFFSETTO:-0700
TZNAME:PDT
DTSTART:20270314T100000
END:DAYLIGHT
BEGIN:STANDARD
TZOFFSETFROM:-0700
TZOFFSETTO:-0800
TZNAME:PST
DTSTART:20271107T090000
END:STANDARD
END:VTIMEZONE
BEGIN:VEVENT
DTSTART;VALUE=DATE:20260606
DTEND;VALUE=DATE:20260608
DTSTAMP:20260421T150006
CREATED:20230117T232635Z
LAST-MODIFIED:20251215T175537Z
UID:9004111222737534-1780704000-1780876799@zoomed.com
SUMMARY:ReptiCon Tampa
DESCRIPTION:Join us in Tampa\, Florida for Repticon! Doors are open 9-4 Saturday and 10-4 Sunday. See live animals from around the world\, purchase pets and pet products direct from the experts at amazing prices you won’t find anywhere else\, and learn more about reptiles and exotic animals at live seminars and demonstrations.
URL:https://zoomed.com/event/repticon-tampa-june-2026/
LOCATION:Florida State Fairgrounds\, 4800 N US Highway 301\, Tampa\, FL\, 33610\, United States
CATEGORIES:Reptile Show
ATTACH;FMTTYPE=image/jpeg:https://zoomed.com/wp-content/uploads/repticon.jpeg
GEO:27.990078;-82.365
X-APPLE-STRUCTURED-LOCATION;VALUE=URI;X-ADDRESS=Florida State Fairgrounds 4800 N US Highway 301 Tampa FL 33610 United States;X-APPLE-RADIUS=500;X-TITLE=4800 N US Highway 301:geo:-82.365,27.990078
END:VEVENT
BEGIN:VEVENT
DTSTART;VALUE=DATE:20260613
DTEND;VALUE=DATE:20260615
DTSTAMP:20260421T150006
CREATED:20230215T012907Z
LAST-MODIFIED:20251215T175858Z
UID:9004111223334650-1781308800-1781481599@zoomed.com
SUMMARY:Manitoba Reptile Breeder Expo
DESCRIPTION:The Manitoba Reptile Breeders’ Expo (MRBE) is the largest event of its kind in the province. Breeders from across the country will be ready and waiting to offer their expert advice\, help you find that special animal and set you up with the supplies you’ll need to keep your pets happy and healthy.
URL:https://zoomed.com/event/manitoba-reptile-breeder-expo-june-2026/
LOCATION:West St. Paul Recreation – Access Centre\, 48 Holland Road\, West St. Paul\, Manitoba\, R4A 5A4\, Canada
CATEGORIES:Reptile Show
ATTACH;FMTTYPE=image/png:https://zoomed.com/wp-content/uploads/Screen-Shot-2022-05-03-at-11.40.19-AM.png
GEO:49.979752457634;-97.081698060072
X-APPLE-STRUCTURED-LOCATION;VALUE=URI;X-ADDRESS=West St. Paul Recreation – Access Centre 48 Holland Road West St. Paul Manitoba R4A 5A4 Canada;X-APPLE-RADIUS=500;X-TITLE=48 Holland Road:geo:-97.081698060072,49.979752457634
END:VEVENT
BEGIN:VEVENT
DTSTART;VALUE=DATE:20260613
DTEND;VALUE=DATE:20260615
DTSTAMP:20260421T150006
CREATED:20250926T205402Z
LAST-MODIFIED:20251215T175716Z
UID:9004111224214353-1781308800-1781481599@zoomed.com
SUMMARY:Scales Expo
DESCRIPTION:Scales Expo in West Palm Beach is a reptile show that includes educational seminars and workshops to celebrate the world of “scales”. Open 10-6 Saturday and 10-5 Sunday with a USARK auction Saturday night from 6-8!
URL:https://zoomed.com/event/scales-expo/
LOCATION:South Florida Expo Center at the South Florida Fairgrounds\, 9067 Southern Boulevard\, West Palm Beach\, FL\, 33411\, United States
CATEGORIES:Reptile Show,Shows
ATTACH;FMTTYPE=image/jpeg:https://zoomed.com/wp-content/uploads/scales-expo-logo.jpg
GEO:26.681875;-80.189778
X-APPLE-STRUCTURED-LOCATION;VALUE=URI;X-ADDRESS=South Florida Expo Center at the South Florida Fairgrounds 9067 Southern Boulevard West Palm Beach FL 33411 United States;X-APPLE-RADIUS=500;X-TITLE=9067 Southern Boulevard:geo:-80.189778,26.681875
END:VEVENT
BEGIN:VEVENT
DTSTART;VALUE=DATE:20260627
DTEND;VALUE=DATE:20260629
DTSTAMP:20260421T150006
CREATED:20221207T215618Z
LAST-MODIFIED:20251215T180015Z
UID:33763-1782518400-1782691199@zoomed.com
SUMMARY:Western Canadian Reptile Expo
DESCRIPTION:Western Canada’s largest reptile expo brings some of the biggest vendors\, and a huge variety of reptile breeders and suppliers from all across Canada…. And even some special guests all the way from Europe! Come and see some of the most unique reptiles\, amphibians and invertebrates ever held in captivity. Not only will you see an endless menagerie of reptiles and amphibians – vendors offer the quality feeders\, food\, habitats and healthcare products in order for you to provide the best quality of life for these animals! The wealth of knowledge available at this show is amazing. This event happens once a year and is truly an event NOT to be missed.
URL:https://zoomed.com/event/western-canadian-reptile-expo-june-2026/
LOCATION:Medicine Hat Stampede Grounds\, 2055 21 Ave SE\, Medicine Hat\, Alberta\, T1B 1A5\, Canada
CATEGORIES:Reptile Show
ATTACH;FMTTYPE=image/jpeg:https://zoomed.com/wp-content/uploads/WCRE-logo.jpg
GEO:50.020134441075;-110.65123355822
X-APPLE-STRUCTURED-LOCATION;VALUE=URI;X-ADDRESS=Medicine Hat Stampede Grounds 2055 21 Ave SE Medicine Hat Alberta T1B 1A5 Canada;X-APPLE-RADIUS=500;X-TITLE=2055 21 Ave SE:geo:-110.65123355822,50.020134441075
END:VEVENT
END:VCALENDAR