BEGIN:VCALENDAR
VERSION:2.0
PRODID:-//Zoo Med Laboratories, Inc. - ECPv6.15.17.1//NONSGML v1.0//EN
CALSCALE:GREGORIAN
METHOD:PUBLISH
X-WR-CALNAME:Zoo Med Laboratories, Inc.
X-ORIGINAL-URL:https://zoomed.com
X-WR-CALDESC:Events for Zoo Med Laboratories, Inc.
REFRESH-INTERVAL;VALUE=DURATION:PT1H
X-Robots-Tag:noindex
X-PUBLISHED-TTL:PT1H
BEGIN:VTIMEZONE
TZID:America/Los_Angeles
BEGIN:DAYLIGHT
TZOFFSETFROM:-0800
TZOFFSETTO:-0700
TZNAME:PDT
DTSTART:20250309T100000
END:DAYLIGHT
BEGIN:STANDARD
TZOFFSETFROM:-0700
TZOFFSETTO:-0800
TZNAME:PST
DTSTART:20251102T090000
END:STANDARD
BEGIN:DAYLIGHT
TZOFFSETFROM:-0800
TZOFFSETTO:-0700
TZNAME:PDT
DTSTART:20260308T100000
END:DAYLIGHT
BEGIN:STANDARD
TZOFFSETFROM:-0700
TZOFFSETTO:-0800
TZNAME:PST
DTSTART:20261101T090000
END:STANDARD
BEGIN:DAYLIGHT
TZOFFSETFROM:-0800
TZOFFSETTO:-0700
TZNAME:PDT
DTSTART:20270314T100000
END:DAYLIGHT
BEGIN:STANDARD
TZOFFSETFROM:-0700
TZOFFSETTO:-0800
TZNAME:PST
DTSTART:20271107T090000
END:STANDARD
END:VTIMEZONE
BEGIN:VEVENT
DTSTART;TZID=America/Los_Angeles:20260426T100000
DTEND;TZID=America/Los_Angeles:20260426T160000
DTSTAMP:20260421T113256
CREATED:20230117T231938Z
LAST-MODIFIED:20251215T174047Z
UID:9004111222737265-1777197600-1777219200@zoomed.com
SUMMARY:Toronto Reptile and Plant Expo
DESCRIPTION:Canada’s longest running reptile event! For over 20 years\, the Canadian Reptile Expos have been promoting responsible reptile ownership as well as bringing together those that share the passion of keeping and breeding these magnificent creatures.
URL:https://zoomed.com/event/toronto-reptile-expo-april-2026/
LOCATION:International Centre\, 6900 Airport Road Hall 5\, Mississauga\, ON\, L4V 1E8\, Canada
CATEGORIES:Reptile Show
ATTACH;FMTTYPE=image/jpeg:https://zoomed.com/wp-content/uploads/toronto-reptile-expo.jpeg
GEO:43.703338;-79.633809
X-APPLE-STRUCTURED-LOCATION;VALUE=URI;X-ADDRESS=International Centre 6900 Airport Road Hall 5 Mississauga ON L4V 1E8 Canada;X-APPLE-RADIUS=500;X-TITLE=6900 Airport Road Hall 5:geo:-79.633809,43.703338
END:VEVENT
END:VCALENDAR