BEGIN:VCALENDAR
VERSION:2.0
PRODID:-//Zoo Med Laboratories, Inc. - ECPv6.15.17.1//NONSGML v1.0//EN
CALSCALE:GREGORIAN
METHOD:PUBLISH
X-ORIGINAL-URL:https://zoomed.com
X-WR-CALDESC:Events for Zoo Med Laboratories, Inc.
REFRESH-INTERVAL;VALUE=DURATION:PT1H
X-Robots-Tag:noindex
X-PUBLISHED-TTL:PT1H
BEGIN:VTIMEZONE
TZID:America/Los_Angeles
BEGIN:DAYLIGHT
TZOFFSETFROM:-0800
TZOFFSETTO:-0700
TZNAME:PDT
DTSTART:20230312T100000
END:DAYLIGHT
BEGIN:STANDARD
TZOFFSETFROM:-0700
TZOFFSETTO:-0800
TZNAME:PST
DTSTART:20231105T090000
END:STANDARD
BEGIN:DAYLIGHT
TZOFFSETFROM:-0800
TZOFFSETTO:-0700
TZNAME:PDT
DTSTART:20240310T100000
END:DAYLIGHT
BEGIN:STANDARD
TZOFFSETFROM:-0700
TZOFFSETTO:-0800
TZNAME:PST
DTSTART:20241103T090000
END:STANDARD
BEGIN:DAYLIGHT
TZOFFSETFROM:-0800
TZOFFSETTO:-0700
TZNAME:PDT
DTSTART:20250309T100000
END:DAYLIGHT
BEGIN:STANDARD
TZOFFSETFROM:-0700
TZOFFSETTO:-0800
TZNAME:PST
DTSTART:20251102T090000
END:STANDARD
END:VTIMEZONE
BEGIN:VEVENT
DTSTART;TZID=America/Los_Angeles:20240309T090000
DTEND;TZID=America/Los_Angeles:20240309T170000
DTSTAMP:20260424T204310
CREATED:20240229T221637Z
LAST-MODIFIED:20240229T221637Z
UID:9004111224207368-1709974800-1710003600@zoomed.com
SUMMARY:Salon De Insectes de Montreal
DESCRIPTION:The insect fair is an open door to the entomological world. Organized by insect lovers\, the goal of the fair is to promote the many interesting aspects of insects\, their implications in our environment and\, of course\, their beauty!
URL:https://zoomed.com/event/salon-de-insectes-de-montreal/
LOCATION:Dawson College\, 3040 Rue Sherbrooke Ouest\, Westmount\, Quebec\, H3Z 3G4\, Canada
CATEGORIES:Insect Shows
ATTACH;FMTTYPE=image/jpeg:https://zoomed.com/wp-content/uploads/montreal-insect-fair.jpeg
END:VEVENT
END:VCALENDAR