BEGIN:VCALENDAR
VERSION:2.0
PRODID:-//Zoo Med Laboratories, Inc. - ECPv6.15.17.1//NONSGML v1.0//EN
CALSCALE:GREGORIAN
METHOD:PUBLISH
X-WR-CALNAME:Zoo Med Laboratories, Inc.
X-ORIGINAL-URL:https://zoomed.com
X-WR-CALDESC:Events for Zoo Med Laboratories, Inc.
REFRESH-INTERVAL;VALUE=DURATION:PT1H
X-Robots-Tag:noindex
X-PUBLISHED-TTL:PT1H
BEGIN:VTIMEZONE
TZID:America/Los_Angeles
BEGIN:DAYLIGHT
TZOFFSETFROM:-0800
TZOFFSETTO:-0700
TZNAME:PDT
DTSTART:20230312T100000
END:DAYLIGHT
BEGIN:STANDARD
TZOFFSETFROM:-0700
TZOFFSETTO:-0800
TZNAME:PST
DTSTART:20231105T090000
END:STANDARD
BEGIN:DAYLIGHT
TZOFFSETFROM:-0800
TZOFFSETTO:-0700
TZNAME:PDT
DTSTART:20240310T100000
END:DAYLIGHT
BEGIN:STANDARD
TZOFFSETFROM:-0700
TZOFFSETTO:-0800
TZNAME:PST
DTSTART:20241103T090000
END:STANDARD
BEGIN:DAYLIGHT
TZOFFSETFROM:-0800
TZOFFSETTO:-0700
TZNAME:PDT
DTSTART:20250309T100000
END:DAYLIGHT
BEGIN:STANDARD
TZOFFSETFROM:-0700
TZOFFSETTO:-0800
TZNAME:PST
DTSTART:20251102T090000
END:STANDARD
END:VTIMEZONE
BEGIN:VEVENT
DTSTART;TZID=America/Los_Angeles:20241010T090000
DTEND;TZID=America/Los_Angeles:20241010T180000
DTSTAMP:20260424T094639
CREATED:20230929T173517Z
LAST-MODIFIED:20231211T235543Z
UID:9004111224205176-1728550800-1728583200@zoomed.com
SUMMARY:NARBC Gecko Symposium
DESCRIPTION:Eyeball licking\, toes sticking\, and tails wagging! It’s time for the GECKO WORLD to come together! \nIt is supported by the North American Reptile Breeders Conference (NARBC)\, the largest gathering of reptile enthusiasts\, suppliers\, artists\, and herpetoculturists in the United States. After the final presentation\, there will be a sale/swap. All attendees may bring gecko-related items and live animals to sell during this final hour of the symposium. Symposium attendees will have access to the best stuff\, supplies\, beautiful artwork\, and the rarest animals 15 hours before NARBC VIPs!
URL:https://zoomed.com/event/narbc-gecko-symposium/
LOCATION:Tinley Park Convention Center\, 18451 Convention Center Drive\, Tinley Park\, IL\, 60477\, United States
CATEGORIES:Conferences,Reptile Show
ATTACH;FMTTYPE=image/jpeg:https://zoomed.com/wp-content/uploads/gecko-symposium.jpg
GEO:41.555712;-87.788401
X-APPLE-STRUCTURED-LOCATION;VALUE=URI;X-ADDRESS=Tinley Park Convention Center 18451 Convention Center Drive Tinley Park IL 60477 United States;X-APPLE-RADIUS=500;X-TITLE=18451 Convention Center Drive:geo:-87.788401,41.555712
END:VEVENT
BEGIN:VEVENT
DTSTART;VALUE=DATE:20241019
DTEND;VALUE=DATE:20241021
DTSTAMP:20260424T094639
CREATED:20191210T221511Z
LAST-MODIFIED:20231211T230830Z
UID:13441-1729296000-1729468799@zoomed.com
SUMMARY:SLO Reptile Expo
DESCRIPTION:Join us for the San Luis Obispo Reptile Expo! This expo is taking place in Zoo Med’s home town and will have reptiles for sale\, workshops\, guest speakers\, and educational displays. Touch a giant sulcata tortoise\, meet an alligator and much more at this incredible show for the whole family!
URL:https://zoomed.com/event/slo-reptile-expo-2024/
LOCATION:Madonna Expo Center\, 120 Madonna Rd\, San Luis\, CA\, United States
CATEGORIES:Reptile Show
ATTACH;FMTTYPE=image/jpeg:https://zoomed.com/wp-content/uploads/slo-reptile-expo-banner-for-website.jpg
GEO:35.264816;-120.675172
X-APPLE-STRUCTURED-LOCATION;VALUE=URI;X-ADDRESS=Madonna Expo Center 120 Madonna Rd San Luis CA United States;X-APPLE-RADIUS=500;X-TITLE=120 Madonna Rd:geo:-120.675172,35.264816
END:VEVENT
BEGIN:VEVENT
DTSTART;VALUE=DATE:20241026
DTEND;VALUE=DATE:20241027
DTSTAMP:20260424T094639
CREATED:20231212T010419Z
LAST-MODIFIED:20231212T010419Z
UID:9004111224206301-1729900800-1729987199@zoomed.com
SUMMARY:American Frog Day
DESCRIPTION:American Frog Day is the longest standing amphibian conservation fundraiser event in the world.  Each year American Frog Day raises and donates thousands of dollars to organizations around the world. There will be a show and sale featuring: captive born and raised amphibians\, Terrarium and Vivarium supplies\, Tropical plants\, including carnivorous plants and orchids\, and Educational displays. \nAfterward there are dinner lectures on a variety of topics. The dinner lectures have been extremely popular and are the perfect ending to the American Frog Day event.  See old friend\, enjoy a nice meal\, listen to engaging speakers lecture on conservation efforts\, field exploits\, husbandry and care tips\, and more.  Seating is limited so don’t wait to long to purchase your ticket! \nThe show/sale is from 10am-4pm \nThe fundraiser auction is from 3pm-4pm \nThe dinner lectures are from 6pm-10pm
URL:https://zoomed.com/event/american-frog-day/
LOCATION:FL
CATEGORIES:Conferences,Reptile Show
ATTACH;FMTTYPE=image/jpeg:https://zoomed.com/wp-content/uploads/american-frog-day-logo.jpg
END:VEVENT
BEGIN:VEVENT
DTSTART;TZID=America/Los_Angeles:20241026T100000
DTEND;TZID=America/Los_Angeles:20241026T160000
DTSTAMP:20260424T094639
CREATED:20231211T231043Z
LAST-MODIFIED:20231211T231043Z
UID:9004111224206250-1729936800-1729958400@zoomed.com
SUMMARY:Rexpo
DESCRIPTION:REXPO has captive bred reptiles\, amphibians\, arachnids\, other invertebrates and some rarer mammals in the hobby. Let’s not forget that REXPO offers every type of feeder on the market to keep your pets healthy for years to come!
URL:https://zoomed.com/event/rexpo-october-2024/
LOCATION:The ROC Dome Arena\, 2695 E Henrietta Rd\, Henrietta\, NY\, 14467\, United States
CATEGORIES:Reptile Show
ATTACH;FMTTYPE=image/png:https://zoomed.com/wp-content/uploads/rexpo.png
GEO:43.065780796389;-77.613236473878
X-APPLE-STRUCTURED-LOCATION;VALUE=URI;X-ADDRESS=The ROC Dome Arena 2695 E Henrietta Rd Henrietta NY 14467 United States;X-APPLE-RADIUS=500;X-TITLE=2695 E Henrietta Rd:geo:-77.613236473878,43.065780796389
END:VEVENT
END:VCALENDAR