BEGIN:VCALENDAR
VERSION:2.0
PRODID:-//Zoo Med Laboratories, Inc. - ECPv6.15.17.1//NONSGML v1.0//EN
CALSCALE:GREGORIAN
METHOD:PUBLISH
X-WR-CALNAME:Zoo Med Laboratories, Inc.
X-ORIGINAL-URL:https://zoomed.com
X-WR-CALDESC:Events for Zoo Med Laboratories, Inc.
REFRESH-INTERVAL;VALUE=DURATION:PT1H
X-Robots-Tag:noindex
X-PUBLISHED-TTL:PT1H
BEGIN:VTIMEZONE
TZID:America/Los_Angeles
BEGIN:DAYLIGHT
TZOFFSETFROM:-0800
TZOFFSETTO:-0700
TZNAME:PDT
DTSTART:20240310T100000
END:DAYLIGHT
BEGIN:STANDARD
TZOFFSETFROM:-0700
TZOFFSETTO:-0800
TZNAME:PST
DTSTART:20241103T090000
END:STANDARD
BEGIN:DAYLIGHT
TZOFFSETFROM:-0800
TZOFFSETTO:-0700
TZNAME:PDT
DTSTART:20250309T100000
END:DAYLIGHT
BEGIN:STANDARD
TZOFFSETFROM:-0700
TZOFFSETTO:-0800
TZNAME:PST
DTSTART:20251102T090000
END:STANDARD
BEGIN:DAYLIGHT
TZOFFSETFROM:-0800
TZOFFSETTO:-0700
TZNAME:PDT
DTSTART:20260308T100000
END:DAYLIGHT
BEGIN:STANDARD
TZOFFSETFROM:-0700
TZOFFSETTO:-0800
TZNAME:PST
DTSTART:20261101T090000
END:STANDARD
END:VTIMEZONE
BEGIN:VEVENT
DTSTART;VALUE=DATE:20250607
DTEND;VALUE=DATE:20250608
DTSTAMP:20260423T204701
CREATED:20250529T235826Z
LAST-MODIFIED:20250530T204947Z
UID:9004111224212901-1749254400-1749340799@zoomed.com
SUMMARY:CrocFest
DESCRIPTION:CROCFEST is an event to raise money\, awareness\, and manpower to help conserve crocodiles worldwide.
URL:https://zoomed.com/event/crocfest/
LOCATION:Crocodile Encounter\, 23231 County Road 48\, Angleton\, TX\, 77515\, United States
ATTACH;FMTTYPE=image/jpeg:https://zoomed.com/wp-content/uploads/crocfest-sized.jpg
END:VEVENT
BEGIN:VEVENT
DTSTART;VALUE=DATE:20250614
DTEND;VALUE=DATE:20250616
DTSTAMP:20260423T204701
CREATED:20250430T162002Z
LAST-MODIFIED:20250430T162021Z
UID:9004111224212480-1749859200-1750031999@zoomed.com
SUMMARY:Cascadia Reptile Expo - Oregon
DESCRIPTION:The Cascadia Reptile Expo is the premier reptile\, exotic animal\, plant\, and curiosities show in the PNW\, and second only in size to PACNWRS. Come out for an incredible one-of-a-kind weekend at the Deschutes County Fair & Expo Center June 14th and 15th.
URL:https://zoomed.com/event/cascadia-reptile-expo-oregon/
LOCATION:Deschutes County Fair & Expo Center\, 3800 SW Airport Wy\, Redmond\, OR\, 97756\, United States
CATEGORIES:Reptile Show
ATTACH;FMTTYPE=image/jpeg:https://zoomed.com/wp-content/uploads/Cascadia_logo-01.jpg
END:VEVENT
BEGIN:VEVENT
DTSTART;VALUE=DATE:20250621
DTEND;VALUE=DATE:20250623
DTSTAMP:20260423T204701
CREATED:20250125T003938Z
LAST-MODIFIED:20250125T003948Z
UID:9004111224211354-1750464000-1750636799@zoomed.com
SUMMARY:Reptile Realms: The San Jose Reptile Show
DESCRIPTION:Reptile Realms launched The San Jose Reptile Show in 2014\, and it quickly grew to become the Bay Area’s Largest and busiest Reptile Expo with over 10\,000 attendees exploring 45\,000 square feet of live reptiles\, amphibians\, invertebrates\, plants and supplies.
URL:https://zoomed.com/event/reptile-realms-the-san-jose-reptile-show/
LOCATION:Santa Clara Fairgrounds\, 344 Tully Road\, San Jose\, CA\, 95111\, United States
CATEGORIES:Reptile Show
ATTACH;FMTTYPE=image/jpeg:https://zoomed.com/wp-content/uploads/san-jose-reptile-expo.jpg
GEO:37.301131;-121.851119
X-APPLE-STRUCTURED-LOCATION;VALUE=URI;X-ADDRESS=Santa Clara Fairgrounds 344 Tully Road San Jose CA 95111 United States;X-APPLE-RADIUS=500;X-TITLE=344 Tully Road:geo:-121.851119,37.301131
END:VEVENT
BEGIN:VEVENT
DTSTART;VALUE=DATE:20250628
DTEND;VALUE=DATE:20250630
DTSTAMP:20260423T204701
CREATED:20231211T234037Z
LAST-MODIFIED:20250125T004358Z
UID:9004111224206275-1751068800-1751241599@zoomed.com
SUMMARY:ReptiCon Asheville
DESCRIPTION:Join us in Charlotte\, NC for ReptiCon! Doors are open 9-4 Saturday and 10-4 Sunday. See live animals from around the world\, purchase pets and pet products direct from the experts at amazing prices you won’t find anywhere else\, and learn more about reptiles and exotic animals at live seminars and demonstrations.
URL:https://zoomed.com/event/repticon-asheville/
LOCATION:Western North Carolina Agricultural Center Expo Building\, 775 New Airport Rd\, Fletcher\, NC\, 28732\, United States
CATEGORIES:Reptile Show
ATTACH;FMTTYPE=image/jpeg:https://zoomed.com/wp-content/uploads/repticon2.jpeg
END:VEVENT
END:VCALENDAR