BEGIN:VCALENDAR
VERSION:2.0
PRODID:-//Zoo Med Laboratories, Inc. - ECPv6.15.17.1//NONSGML v1.0//EN
CALSCALE:GREGORIAN
METHOD:PUBLISH
X-ORIGINAL-URL:https://zoomed.com
X-WR-CALDESC:Events for Zoo Med Laboratories, Inc.
REFRESH-INTERVAL;VALUE=DURATION:PT1H
X-Robots-Tag:noindex
X-PUBLISHED-TTL:PT1H
BEGIN:VTIMEZONE
TZID:America/Los_Angeles
BEGIN:DAYLIGHT
TZOFFSETFROM:-0800
TZOFFSETTO:-0700
TZNAME:PDT
DTSTART:20240310T100000
END:DAYLIGHT
BEGIN:STANDARD
TZOFFSETFROM:-0700
TZOFFSETTO:-0800
TZNAME:PST
DTSTART:20241103T090000
END:STANDARD
BEGIN:DAYLIGHT
TZOFFSETFROM:-0800
TZOFFSETTO:-0700
TZNAME:PDT
DTSTART:20250309T100000
END:DAYLIGHT
BEGIN:STANDARD
TZOFFSETFROM:-0700
TZOFFSETTO:-0800
TZNAME:PST
DTSTART:20251102T090000
END:STANDARD
BEGIN:DAYLIGHT
TZOFFSETFROM:-0800
TZOFFSETTO:-0700
TZNAME:PDT
DTSTART:20260308T100000
END:DAYLIGHT
BEGIN:STANDARD
TZOFFSETFROM:-0700
TZOFFSETTO:-0800
TZNAME:PST
DTSTART:20261101T090000
END:STANDARD
END:VTIMEZONE
BEGIN:VEVENT
DTSTART;VALUE=DATE:20251018
DTEND;VALUE=DATE:20251020
DTSTAMP:20260423T141650
CREATED:20240925T220455Z
LAST-MODIFIED:20250926T200414Z
UID:9004111224209904-1760745600-1760918399@zoomed.com
SUMMARY:AquaExpo
DESCRIPTION:Aquatic expo hosted by the Golden Coast Aquarium Society in Coral Springs\, FL. There will be lots of tropical fish\, aquatic plants\, shrimp\, decorations\, artwork\, and more! Happening Saturday 12-5 and Sunday 11-4.
URL:https://zoomed.com/event/aqua-expo/
LOCATION:La Quinta Inn & Suites\, 3701 N University Dr\, Coral Springs\, FL\, 33065
CATEGORIES:Aquatic Show,Shows
ATTACH;FMTTYPE=image/jpeg:https://zoomed.com/wp-content/uploads/GCAS_AquaExpo_2025.jpg
END:VEVENT
BEGIN:VEVENT
DTSTART;TZID=America/Los_Angeles:20251019T100000
DTEND;TZID=America/Los_Angeles:20251019T160000
DTSTAMP:20260423T141650
CREATED:20250926T202233Z
LAST-MODIFIED:20250926T202233Z
UID:9004111224214351-1760868000-1760889600@zoomed.com
SUMMARY:Toronto Reptile and Plant Expo
DESCRIPTION:Canada’s longest running reptile event! For over 20 years\, the Canadian Reptile Expos have been promoting responsible reptile ownership as well as bringing together those that share the passion of keeping and breeding these magnificent creatures.
URL:https://zoomed.com/event/toronto-reptile-expo-oct-2025/
LOCATION:International Centre\, 6900 Airport Road Hall 5\, Mississauga\, ON\, L4V 1E8\, Canada
CATEGORIES:Reptile Show
ATTACH;FMTTYPE=image/jpeg:https://zoomed.com/wp-content/uploads/toronto-reptile-expo.jpeg
GEO:43.703338;-79.633809
X-APPLE-STRUCTURED-LOCATION;VALUE=URI;X-ADDRESS=International Centre 6900 Airport Road Hall 5 Mississauga ON L4V 1E8 Canada;X-APPLE-RADIUS=500;X-TITLE=6900 Airport Road Hall 5:geo:-79.633809,43.703338
END:VEVENT
BEGIN:VEVENT
DTSTART;VALUE=DATE:20251025
DTEND;VALUE=DATE:20251028
DTSTAMP:20260423T141650
CREATED:20250926T211232Z
LAST-MODIFIED:20250926T211232Z
UID:9004111224214357-1761350400-1761609599@zoomed.com
SUMMARY:All American Reptile & Plant Expo - Castle Rock\, CO
DESCRIPTION:All American Reptile and Plant Expo brings a diverse variety of plants and animals in a family-friendly event. Doors are open Saturday 10-5 and Sunday 10-4.
URL:https://zoomed.com/event/all-american-reptile-plant-expo-castle-rock/
LOCATION:Douglas County Fairgrounds\, 500 Fairgrounds Rd\, Castle Rock\, CO\, 80104\, United States
CATEGORIES:Reptile Show
ATTACH;FMTTYPE=image/jpeg:https://zoomed.com/wp-content/uploads/all-american-reptile-and-plant-expo.jpg
END:VEVENT
END:VCALENDAR