BEGIN:VCALENDAR
VERSION:2.0
PRODID:-//Zoo Med Laboratories, Inc. - ECPv6.15.17.1//NONSGML v1.0//EN
CALSCALE:GREGORIAN
METHOD:PUBLISH
X-ORIGINAL-URL:https://zoomed.com
X-WR-CALDESC:Events for Zoo Med Laboratories, Inc.
REFRESH-INTERVAL;VALUE=DURATION:PT1H
X-Robots-Tag:noindex
X-PUBLISHED-TTL:PT1H
BEGIN:VTIMEZONE
TZID:America/Los_Angeles
BEGIN:DAYLIGHT
TZOFFSETFROM:-0800
TZOFFSETTO:-0700
TZNAME:PDT
DTSTART:20250309T100000
END:DAYLIGHT
BEGIN:STANDARD
TZOFFSETFROM:-0700
TZOFFSETTO:-0800
TZNAME:PST
DTSTART:20251102T090000
END:STANDARD
BEGIN:DAYLIGHT
TZOFFSETFROM:-0800
TZOFFSETTO:-0700
TZNAME:PDT
DTSTART:20260308T100000
END:DAYLIGHT
BEGIN:STANDARD
TZOFFSETFROM:-0700
TZOFFSETTO:-0800
TZNAME:PST
DTSTART:20261101T090000
END:STANDARD
BEGIN:DAYLIGHT
TZOFFSETFROM:-0800
TZOFFSETTO:-0700
TZNAME:PDT
DTSTART:20270314T100000
END:DAYLIGHT
BEGIN:STANDARD
TZOFFSETFROM:-0700
TZOFFSETTO:-0800
TZNAME:PST
DTSTART:20271107T090000
END:STANDARD
END:VTIMEZONE
BEGIN:VEVENT
DTSTART;VALUE=DATE:20261003
DTEND;VALUE=DATE:20261005
DTSTAMP:20260423T064019
CREATED:20221207T220027Z
LAST-MODIFIED:20251215T192207Z
UID:33768-1790985600-1791158399@zoomed.com
SUMMARY:Reptile Super Show Anaheim
DESCRIPTION:A massive event that is hosted only three times a year in Southern California\, and once in Las Vegas\, the Reptile Super Show & Breeder Expo is a ginormous event that attracts people from across the globe. Open to the public\, guests who come to the event will get to:\n• Learn about a wide array of reptiles and amphibians.\n• Get the opportunity to look at 1000’s reptiles and amphibians.\n• Gain access to all the best supplies and housing to make these creatures a pet.\n• Get the chance to take home a new family member in the form of a reptile or amphibian. \nThe Reptile Super Show is meant to educate the public about pets they may otherwise never get the chance to know\, but we are also passionate about captive breeding and keeping the populations of some of the world’s most interesting creatures alive and well. Educational\, fun\, and no-doubt exciting\, the Reptile Super Show is something everyone should visit at least once. If you’re not a reptile fan when arrive\, we promise you that you will leave as one.
URL:https://zoomed.com/event/reptile-super-show-anaheim-oct-2026/
LOCATION:Anaheim Convention Center\, 800 West Katella Ave\, Anaheim\, CA\, 92802\, United States
CATEGORIES:Reptile Show
ATTACH;FMTTYPE=image/jpeg:https://zoomed.com/wp-content/uploads/reptilesupershow2.jpeg
GEO:33.80057;-117.920921
X-APPLE-STRUCTURED-LOCATION;VALUE=URI;X-ADDRESS=Anaheim Convention Center 800 West Katella Ave Anaheim CA 92802 United States;X-APPLE-RADIUS=500;X-TITLE=800 West Katella Ave:geo:-117.920921,33.80057
END:VEVENT
END:VCALENDAR