BEGIN:VCALENDAR
VERSION:2.0
PRODID:-//Zoo Med Laboratories, Inc. - ECPv6.15.17.1//NONSGML v1.0//EN
CALSCALE:GREGORIAN
METHOD:PUBLISH
X-WR-CALNAME:Zoo Med Laboratories, Inc.
X-ORIGINAL-URL:https://zoomed.com
X-WR-CALDESC:Events for Zoo Med Laboratories, Inc.
REFRESH-INTERVAL;VALUE=DURATION:PT1H
X-Robots-Tag:noindex
X-PUBLISHED-TTL:PT1H
BEGIN:VTIMEZONE
TZID:America/Los_Angeles
BEGIN:DAYLIGHT
TZOFFSETFROM:-0800
TZOFFSETTO:-0700
TZNAME:PDT
DTSTART:20240310T100000
END:DAYLIGHT
BEGIN:STANDARD
TZOFFSETFROM:-0700
TZOFFSETTO:-0800
TZNAME:PST
DTSTART:20241103T090000
END:STANDARD
BEGIN:DAYLIGHT
TZOFFSETFROM:-0800
TZOFFSETTO:-0700
TZNAME:PDT
DTSTART:20250309T100000
END:DAYLIGHT
BEGIN:STANDARD
TZOFFSETFROM:-0700
TZOFFSETTO:-0800
TZNAME:PST
DTSTART:20251102T090000
END:STANDARD
BEGIN:DAYLIGHT
TZOFFSETFROM:-0800
TZOFFSETTO:-0700
TZNAME:PDT
DTSTART:20260308T100000
END:DAYLIGHT
BEGIN:STANDARD
TZOFFSETFROM:-0700
TZOFFSETTO:-0800
TZNAME:PST
DTSTART:20261101T090000
END:STANDARD
END:VTIMEZONE
BEGIN:VEVENT
DTSTART;VALUE=DATE:20250607
DTEND;VALUE=DATE:20250608
DTSTAMP:20260421T183906
CREATED:20250529T235826Z
LAST-MODIFIED:20250530T204947Z
UID:9004111224212901-1749254400-1749340799@zoomed.com
SUMMARY:CrocFest
DESCRIPTION:CROCFEST is an event to raise money\, awareness\, and manpower to help conserve crocodiles worldwide.
URL:https://zoomed.com/event/crocfest/
LOCATION:Crocodile Encounter\, 23231 County Road 48\, Angleton\, TX\, 77515\, United States
ATTACH;FMTTYPE=image/jpeg:https://zoomed.com/wp-content/uploads/crocfest-sized.jpg
END:VEVENT
END:VCALENDAR