BEGIN:VCALENDAR
VERSION:2.0
PRODID:-//Zoo Med Laboratories, Inc. - ECPv6.15.17.1//NONSGML v1.0//EN
CALSCALE:GREGORIAN
METHOD:PUBLISH
X-ORIGINAL-URL:https://zoomed.com
X-WR-CALDESC:Events for Zoo Med Laboratories, Inc.
REFRESH-INTERVAL;VALUE=DURATION:PT1H
X-Robots-Tag:noindex
X-PUBLISHED-TTL:PT1H
BEGIN:VTIMEZONE
TZID:America/Los_Angeles
BEGIN:DAYLIGHT
TZOFFSETFROM:-0800
TZOFFSETTO:-0700
TZNAME:PDT
DTSTART:20250309T100000
END:DAYLIGHT
BEGIN:STANDARD
TZOFFSETFROM:-0700
TZOFFSETTO:-0800
TZNAME:PST
DTSTART:20251102T090000
END:STANDARD
BEGIN:DAYLIGHT
TZOFFSETFROM:-0800
TZOFFSETTO:-0700
TZNAME:PDT
DTSTART:20260308T100000
END:DAYLIGHT
BEGIN:STANDARD
TZOFFSETFROM:-0700
TZOFFSETTO:-0800
TZNAME:PST
DTSTART:20261101T090000
END:STANDARD
BEGIN:DAYLIGHT
TZOFFSETFROM:-0800
TZOFFSETTO:-0700
TZNAME:PDT
DTSTART:20270314T100000
END:DAYLIGHT
BEGIN:STANDARD
TZOFFSETFROM:-0700
TZOFFSETTO:-0800
TZNAME:PST
DTSTART:20271107T090000
END:STANDARD
END:VTIMEZONE
BEGIN:VEVENT
DTSTART;VALUE=DATE:20260919
DTEND;VALUE=DATE:20260921
DTSTAMP:20260423T081209
CREATED:20231211T223130Z
LAST-MODIFIED:20251215T191544Z
UID:9004111224206242-1789776000-1789948799@zoomed.com
SUMMARY:NARBC Dallas
DESCRIPTION:The North American Reptile Breeders Conference & Trade Show is a trade show where many of the top breeders from all over the world come to showcase & sell their captive born reptiles to the public. \nDoors are open Saturday 10-5 and Sunday 11-4
URL:https://zoomed.com/event/narbc-dallas-september-2026/
LOCATION:Dallas Market Center\, 2100 N. Stemmons Fwy\, Dallas\, TX\, 75207\, United States
CATEGORIES:Reptile Show
ATTACH;FMTTYPE=image/jpeg:https://zoomed.com/wp-content/uploads/narbc-logo.jpg
GEO:32.804353426629;-96.826882688456
X-APPLE-STRUCTURED-LOCATION;VALUE=URI;X-ADDRESS=Dallas Market Center 2100 N. Stemmons Fwy Dallas TX 75207 United States;X-APPLE-RADIUS=500;X-TITLE=2100 N. Stemmons Fwy:geo:-96.826882688456,32.804353426629
END:VEVENT
END:VCALENDAR