BEGIN:VCALENDAR
VERSION:2.0
PRODID:-//Zoo Med Laboratories, Inc. - ECPv6.15.17.1//NONSGML v1.0//EN
CALSCALE:GREGORIAN
METHOD:PUBLISH
X-WR-CALNAME:Zoo Med Laboratories, Inc.
X-ORIGINAL-URL:https://zoomed.com
X-WR-CALDESC:Events for Zoo Med Laboratories, Inc.
REFRESH-INTERVAL;VALUE=DURATION:PT1H
X-Robots-Tag:noindex
X-PUBLISHED-TTL:PT1H
BEGIN:VTIMEZONE
TZID:America/Los_Angeles
BEGIN:DAYLIGHT
TZOFFSETFROM:-0800
TZOFFSETTO:-0700
TZNAME:PDT
DTSTART:20230312T100000
END:DAYLIGHT
BEGIN:STANDARD
TZOFFSETFROM:-0700
TZOFFSETTO:-0800
TZNAME:PST
DTSTART:20231105T090000
END:STANDARD
BEGIN:DAYLIGHT
TZOFFSETFROM:-0800
TZOFFSETTO:-0700
TZNAME:PDT
DTSTART:20240310T100000
END:DAYLIGHT
BEGIN:STANDARD
TZOFFSETFROM:-0700
TZOFFSETTO:-0800
TZNAME:PST
DTSTART:20241103T090000
END:STANDARD
BEGIN:DAYLIGHT
TZOFFSETFROM:-0800
TZOFFSETTO:-0700
TZNAME:PDT
DTSTART:20250309T100000
END:DAYLIGHT
BEGIN:STANDARD
TZOFFSETFROM:-0700
TZOFFSETTO:-0800
TZNAME:PST
DTSTART:20251102T090000
END:STANDARD
END:VTIMEZONE
BEGIN:VEVENT
DTSTART;VALUE=DATE:20241102
DTEND;VALUE=DATE:20241104
DTSTAMP:20260421T170521
CREATED:20240709T162337Z
LAST-MODIFIED:20240709T162337Z
UID:9004111224208957-1730505600-1730678399@zoomed.com
SUMMARY:Big Sky Expo
DESCRIPTION:The Big Sky Reptile Expo Series is taking place in Billings\, Montana and will have reptiles\, amphibians\, insects\, arachnids\, exotic plants and pet supplies for sale. \nThe BSR Expo Series is Montana’s longest-running exotic animal trade show. They have five shows annually\, alternating between the Montana Pavilion at the Metra Park in Billings\, MT the Missoula County Fairgrounds located in Missoula\, MT the Lewis and Clark Fairgrounds in Helena\, Montana and the Gallatin County Fairgrounds in\, Bozeman\, Montana. \nThere will also be a family friendly educational/comedic kids show James of the Jungle\, with shows at 11am and 2pm. \nDoors are open Saturday 10-5 and Sunday 11-4.
URL:https://zoomed.com/event/big-sky-expo/
LOCATION:Expo Center at MetraPark\, 308 6th Avenue North\, Billings\, MT\, 59101\, United States
CATEGORIES:Reptile Show
ATTACH;FMTTYPE=image/jpeg:https://zoomed.com/wp-content/uploads/big-sky-reptile-expo.jpg
END:VEVENT
END:VCALENDAR