BEGIN:VCALENDAR
VERSION:2.0
PRODID:-//Zoo Med Laboratories, Inc. - ECPv6.15.17.1//NONSGML v1.0//EN
CALSCALE:GREGORIAN
METHOD:PUBLISH
X-WR-CALNAME:Zoo Med Laboratories, Inc.
X-ORIGINAL-URL:https://zoomed.com
X-WR-CALDESC:Events for Zoo Med Laboratories, Inc.
REFRESH-INTERVAL;VALUE=DURATION:PT1H
X-Robots-Tag:noindex
X-PUBLISHED-TTL:PT1H
BEGIN:VTIMEZONE
TZID:America/Los_Angeles
BEGIN:DAYLIGHT
TZOFFSETFROM:-0800
TZOFFSETTO:-0700
TZNAME:PDT
DTSTART:20240310T100000
END:DAYLIGHT
BEGIN:STANDARD
TZOFFSETFROM:-0700
TZOFFSETTO:-0800
TZNAME:PST
DTSTART:20241103T090000
END:STANDARD
BEGIN:DAYLIGHT
TZOFFSETFROM:-0800
TZOFFSETTO:-0700
TZNAME:PDT
DTSTART:20250309T100000
END:DAYLIGHT
BEGIN:STANDARD
TZOFFSETFROM:-0700
TZOFFSETTO:-0800
TZNAME:PST
DTSTART:20251102T090000
END:STANDARD
BEGIN:DAYLIGHT
TZOFFSETFROM:-0800
TZOFFSETTO:-0700
TZNAME:PDT
DTSTART:20260308T100000
END:DAYLIGHT
BEGIN:STANDARD
TZOFFSETFROM:-0700
TZOFFSETTO:-0800
TZNAME:PST
DTSTART:20261101T090000
END:STANDARD
END:VTIMEZONE
BEGIN:VEVENT
DTSTART;TZID=America/Los_Angeles:20251207T100000
DTEND;TZID=America/Los_Angeles:20251207T150000
DTSTAMP:20260421T143906
CREATED:20221207T223639Z
LAST-MODIFIED:20241216T191454Z
UID:33803-1765101600-1765119600@zoomed.com
SUMMARY:SEWERFest
DESCRIPTION:SEWERFest began in 2001 as a small Midwestern Reptile show. Since then\, the annual Summertime Sale and Fest has grown to include Fall\, Spring\, and Summer Dates: \n\nIncludes a wide variety of diverse captive bred animals\nFeatures quality breeders across Wisconsin\, the Midwest\, and all over the United States\nA great opportunity to see & learn about animals rarely seen in zoos or museums that can be fun for the whole family\n\nThe show is set in a banquet hall featuring an on-site ATM\, restrooms\, and in true Wisconsin style – a bar. *Come on out to the Fountain Banquet Hall and check it out!
URL:https://zoomed.com/event/sewerfest-december-2025/
LOCATION:Fountain Banquet Hall\, 8505 Durand Ave\, Sturtevant\, WI\, 53177\, United States
CATEGORIES:Reptile Show
ATTACH;FMTTYPE=image/jpeg:https://zoomed.com/wp-content/uploads/sewerfest.jpg
GEO:42.697118;-87.887962
X-APPLE-STRUCTURED-LOCATION;VALUE=URI;X-ADDRESS=Fountain Banquet Hall 8505 Durand Ave Sturtevant WI 53177 United States;X-APPLE-RADIUS=500;X-TITLE=8505 Durand Ave:geo:-87.887962,42.697118
END:VEVENT
BEGIN:VEVENT
DTSTART;TZID=America/Los_Angeles:20250907T100000
DTEND;TZID=America/Los_Angeles:20250907T150000
DTSTAMP:20260421T143906
CREATED:20221207T220812Z
LAST-MODIFIED:20241216T190214Z
UID:33775-1757239200-1757257200@zoomed.com
SUMMARY:SEWERFest
DESCRIPTION:SEWERFest began in 2001 as a small Midwestern Reptile show. Since then\, the annual Summertime Sale and Fest has grown to include Fall\, Spring\, and Summer Dates: \n\nIncludes a wide variety of diverse captive bred animals\nFeatures quality breeders across Wisconsin\, the Midwest\, and all over the United States\nA great opportunity to see & learn about animals rarely seen in zoos or museums that can be fun for the whole family\n\nThe show is set in a banquet hall featuring an on-site ATM\, restrooms\, and in true Wisconsin style – a bar. *Come on out to the Fountain Banquet Hall and check it out! SEWERFest is in Sturtevant\, Wisconsin from 10-3!
URL:https://zoomed.com/event/sewerfest-sept-2025/
LOCATION:Fountain Banquet Hall\, 8505 Durand Ave\, Sturtevant\, WI\, 53177\, United States
CATEGORIES:Reptile Show
ATTACH;FMTTYPE=image/jpeg:https://zoomed.com/wp-content/uploads/sewerfest.jpg
GEO:42.697118;-87.887962
X-APPLE-STRUCTURED-LOCATION;VALUE=URI;X-ADDRESS=Fountain Banquet Hall 8505 Durand Ave Sturtevant WI 53177 United States;X-APPLE-RADIUS=500;X-TITLE=8505 Durand Ave:geo:-87.887962,42.697118
END:VEVENT
BEGIN:VEVENT
DTSTART;TZID=America/Los_Angeles:20250427T100000
DTEND;TZID=America/Los_Angeles:20250427T150000
DTSTAMP:20260421T143906
CREATED:20221207T212504Z
LAST-MODIFIED:20241216T175837Z
UID:33755-1745748000-1745766000@zoomed.com
SUMMARY:SEWERFest
DESCRIPTION:SEWERFest began in 2001 as a small Midwestern Reptile show. Since then\, the annual Summertime Sale and Fest has grown to include Fall and Spring Dates: \n\nIncludes a wide variety of diverse captive bred animals\nFeatures quality breeders across Wisconsin\, the Midwest\, and all over the United States\nA great opportunity to see & learn about animals rarely seen in zoos or museums that can be fun for the whole family\n\nThe show is set in a banquet hall featuring an on-site ATM\, restrooms\, and in true Wisconsin style – a bar. *Come on out to the Fountain Banquet Hall and check it out!
URL:https://zoomed.com/event/sewerfest-april-2025/
LOCATION:Fountain Banquet Hall\, 8505 Durand Ave\, Sturtevant\, WI\, 53177\, United States
CATEGORIES:Reptile Show
ATTACH;FMTTYPE=image/jpeg:https://zoomed.com/wp-content/uploads/sewerfest.jpg
GEO:42.697118;-87.887962
X-APPLE-STRUCTURED-LOCATION;VALUE=URI;X-ADDRESS=Fountain Banquet Hall 8505 Durand Ave Sturtevant WI 53177 United States;X-APPLE-RADIUS=500;X-TITLE=8505 Durand Ave:geo:-87.887962,42.697118
END:VEVENT
END:VCALENDAR