BEGIN:VCALENDAR
VERSION:2.0
PRODID:-//Zoo Med Laboratories, Inc. - ECPv6.15.17.1//NONSGML v1.0//EN
CALSCALE:GREGORIAN
METHOD:PUBLISH
X-WR-CALNAME:Zoo Med Laboratories, Inc.
X-ORIGINAL-URL:https://zoomed.com
X-WR-CALDESC:Events for Zoo Med Laboratories, Inc.
REFRESH-INTERVAL;VALUE=DURATION:PT1H
X-Robots-Tag:noindex
X-PUBLISHED-TTL:PT1H
BEGIN:VTIMEZONE
TZID:America/Los_Angeles
BEGIN:DAYLIGHT
TZOFFSETFROM:-0800
TZOFFSETTO:-0700
TZNAME:PDT
DTSTART:20230312T100000
END:DAYLIGHT
BEGIN:STANDARD
TZOFFSETFROM:-0700
TZOFFSETTO:-0800
TZNAME:PST
DTSTART:20231105T090000
END:STANDARD
BEGIN:DAYLIGHT
TZOFFSETFROM:-0800
TZOFFSETTO:-0700
TZNAME:PDT
DTSTART:20240310T100000
END:DAYLIGHT
BEGIN:STANDARD
TZOFFSETFROM:-0700
TZOFFSETTO:-0800
TZNAME:PST
DTSTART:20241103T090000
END:STANDARD
BEGIN:DAYLIGHT
TZOFFSETFROM:-0800
TZOFFSETTO:-0700
TZNAME:PDT
DTSTART:20250309T100000
END:DAYLIGHT
BEGIN:STANDARD
TZOFFSETFROM:-0700
TZOFFSETTO:-0800
TZNAME:PST
DTSTART:20251102T090000
END:STANDARD
END:VTIMEZONE
BEGIN:VEVENT
DTSTART;VALUE=DATE:20240608
DTEND;VALUE=DATE:20240610
DTSTAMP:20260421T164207
CREATED:20230215T010711Z
LAST-MODIFIED:20240430T215430Z
UID:9004111223333890-1717804800-1717977599@zoomed.com
SUMMARY:Fresno Reptile Expo
DESCRIPTION:See incredible reptiles and amphibians from all over the globe! We’ll have snakes\, lizards\, geckos\, chameleons\, turtles\, tortoises\, gators\, and so much more!
URL:https://zoomed.com/event/fresno-reptile-expo/
LOCATION:Fresno Fairgrounds\, 1121 S Chance Ave\, Fresno\, CA\, 93702\, United States
CATEGORIES:Reptile Show
ATTACH;FMTTYPE=image/jpeg:https://zoomed.com/wp-content/uploads/central-valley-reptile-expo-events-page-photo.jpeg
GEO:36.730592147522;-119.75098547413
X-APPLE-STRUCTURED-LOCATION;VALUE=URI;X-ADDRESS=Fresno Fairgrounds 1121 S Chance Ave Fresno CA 93702 United States;X-APPLE-RADIUS=500;X-TITLE=1121 S Chance Ave:geo:-119.75098547413,36.730592147522
END:VEVENT
END:VCALENDAR