BEGIN:VCALENDAR
VERSION:2.0
PRODID:-//Zoo Med Laboratories, Inc. - ECPv6.15.17.1//NONSGML v1.0//EN
CALSCALE:GREGORIAN
METHOD:PUBLISH
X-ORIGINAL-URL:https://zoomed.com
X-WR-CALDESC:Events for Zoo Med Laboratories, Inc.
REFRESH-INTERVAL;VALUE=DURATION:PT1H
X-Robots-Tag:noindex
X-PUBLISHED-TTL:PT1H
BEGIN:VTIMEZONE
TZID:America/Los_Angeles
BEGIN:DAYLIGHT
TZOFFSETFROM:-0800
TZOFFSETTO:-0700
TZNAME:PDT
DTSTART:20230312T100000
END:DAYLIGHT
BEGIN:STANDARD
TZOFFSETFROM:-0700
TZOFFSETTO:-0800
TZNAME:PST
DTSTART:20231105T090000
END:STANDARD
BEGIN:DAYLIGHT
TZOFFSETFROM:-0800
TZOFFSETTO:-0700
TZNAME:PDT
DTSTART:20240310T100000
END:DAYLIGHT
BEGIN:STANDARD
TZOFFSETFROM:-0700
TZOFFSETTO:-0800
TZNAME:PST
DTSTART:20241103T090000
END:STANDARD
BEGIN:DAYLIGHT
TZOFFSETFROM:-0800
TZOFFSETTO:-0700
TZNAME:PDT
DTSTART:20250309T100000
END:DAYLIGHT
BEGIN:STANDARD
TZOFFSETFROM:-0700
TZOFFSETTO:-0800
TZNAME:PST
DTSTART:20251102T090000
END:STANDARD
END:VTIMEZONE
BEGIN:VEVENT
DTSTART;TZID=America/Los_Angeles:20240427T123000
DTEND;TZID=America/Los_Angeles:20240427T220000
DTSTAMP:20260421T183252
CREATED:20240415T185826Z
LAST-MODIFIED:20240415T185826Z
UID:9004111224207936-1714221000-1714255200@zoomed.com
SUMMARY:TurtleFest
DESCRIPTION:TurtleFest 2024 is a remarkable fundraising event dedicated to raising money for turtle conservation and research projects. As the host\, Iguanaland zoo in Punta Gorda\, FL\, is committed to preserving these majestic creatures and their habitats. \nThis event is more than just a gathering; it embodies a shared passion for turtle welfare. By participating in TurtleFest\, you are directly contributing to the ongoing efforts to protect and understand these gentle reptiles. \nDon’t miss the chance to be a part of this extraordinary event. Join us and make a difference in the world of turtle conservation today!
URL:https://zoomed.com/event/turtlefest/
LOCATION:IguanaLand\, 33900 Bermont Rd\, Punta Gorda\, FL\, 33982
ATTACH;FMTTYPE=image/jpeg:https://zoomed.com/wp-content/uploads/turtlefest-2024-icon.jpg
END:VEVENT
END:VCALENDAR