BEGIN:VCALENDAR
VERSION:2.0
PRODID:-//Zoo Med Laboratories, Inc. - ECPv6.15.17.1//NONSGML v1.0//EN
CALSCALE:GREGORIAN
METHOD:PUBLISH
X-ORIGINAL-URL:https://zoomed.com
X-WR-CALDESC:Events for Zoo Med Laboratories, Inc.
REFRESH-INTERVAL;VALUE=DURATION:PT1H
X-Robots-Tag:noindex
X-PUBLISHED-TTL:PT1H
BEGIN:VTIMEZONE
TZID:America/Los_Angeles
BEGIN:DAYLIGHT
TZOFFSETFROM:-0800
TZOFFSETTO:-0700
TZNAME:PDT
DTSTART:20230312T100000
END:DAYLIGHT
BEGIN:STANDARD
TZOFFSETFROM:-0700
TZOFFSETTO:-0800
TZNAME:PST
DTSTART:20231105T090000
END:STANDARD
BEGIN:DAYLIGHT
TZOFFSETFROM:-0800
TZOFFSETTO:-0700
TZNAME:PDT
DTSTART:20240310T100000
END:DAYLIGHT
BEGIN:STANDARD
TZOFFSETFROM:-0700
TZOFFSETTO:-0800
TZNAME:PST
DTSTART:20241103T090000
END:STANDARD
BEGIN:DAYLIGHT
TZOFFSETFROM:-0800
TZOFFSETTO:-0700
TZNAME:PDT
DTSTART:20250309T100000
END:DAYLIGHT
BEGIN:STANDARD
TZOFFSETFROM:-0700
TZOFFSETTO:-0800
TZNAME:PST
DTSTART:20251102T090000
END:STANDARD
BEGIN:DAYLIGHT
TZOFFSETFROM:-0800
TZOFFSETTO:-0700
TZNAME:PDT
DTSTART:20260308T100000
END:DAYLIGHT
BEGIN:STANDARD
TZOFFSETFROM:-0700
TZOFFSETTO:-0800
TZNAME:PST
DTSTART:20261101T090000
END:STANDARD
END:VTIMEZONE
BEGIN:VEVENT
DTSTART;VALUE=DATE:20250802
DTEND;VALUE=DATE:20250804
DTSTAMP:20260421T164322
CREATED:20231211T215026Z
LAST-MODIFIED:20241216T185505Z
UID:9004111224206226-1754092800-1754265599@zoomed.com
SUMMARY:ReptiCon Columbia
DESCRIPTION:Join us in Columbia\, SC for Repticon! Doors are open 9-4 Saturday and 10-4 Sunday. See live animals from around the world\, purchase pets and pet products direct from the experts at amazing prices you won’t find anywhere else\, and learn more about reptiles and exotic animals at live seminars and demonstrations.
URL:https://zoomed.com/event/repticon-columbia-august-2025/
LOCATION:Jamil Temple\, 206 Jamil Rd\, Columbia\, SC\, 29210\, United States
CATEGORIES:Reptile Show
ATTACH;FMTTYPE=image/jpeg:https://zoomed.com/wp-content/uploads/repticon.jpeg
GEO:34.04874;-81.12337
X-APPLE-STRUCTURED-LOCATION;VALUE=URI;X-ADDRESS=Jamil Temple 206 Jamil Rd Columbia SC 29210 United States;X-APPLE-RADIUS=500;X-TITLE=206 Jamil Rd:geo:-81.12337,34.04874
END:VEVENT
BEGIN:VEVENT
DTSTART;VALUE=DATE:20241102
DTEND;VALUE=DATE:20241104
DTSTAMP:20260421T164322
CREATED:20231211T231212Z
LAST-MODIFIED:20231211T231212Z
UID:9004111224206247-1730505600-1730678399@zoomed.com
SUMMARY:ReptiCon Columbia
DESCRIPTION:Join us in Columbia\, SC for Repticon! Doors are open 9-4 Saturday and 10-4 Sunday. See live animals from around the world\, purchase pets and pet products direct from the experts at amazing prices you won’t find anywhere else\, and learn more about reptiles and exotic animals at live seminars and demonstrations.
URL:https://zoomed.com/event/repticon-columbia-november-2024/
LOCATION:Jamil Temple\, 206 Jamil Rd\, Columbia\, SC\, 29210\, United States
CATEGORIES:Reptile Show
ATTACH;FMTTYPE=image/jpeg:https://zoomed.com/wp-content/uploads/repticon.jpeg
GEO:34.04874;-81.12337
X-APPLE-STRUCTURED-LOCATION;VALUE=URI;X-ADDRESS=Jamil Temple 206 Jamil Rd Columbia SC 29210 United States;X-APPLE-RADIUS=500;X-TITLE=206 Jamil Rd:geo:-81.12337,34.04874
END:VEVENT
BEGIN:VEVENT
DTSTART;VALUE=DATE:20240504
DTEND;VALUE=DATE:20240506
DTSTAMP:20260421T164322
CREATED:20231211T195604Z
LAST-MODIFIED:20231212T172822Z
UID:9004111224206189-1714780800-1714953599@zoomed.com
SUMMARY:ReptiCon Columbia
DESCRIPTION:Join us in Columbia\, SC for Repticon! Doors are open 9-4 Saturday and 10-4 Sunday. See live animals from around the world\, purchase pets and pet products direct from the experts at amazing prices you won’t find anywhere else\, and learn more about reptiles and exotic animals at live seminars and demonstrations.
URL:https://zoomed.com/event/repticon-columbia/
LOCATION:Jamil Temple\, 206 Jamil Rd\, Columbia\, SC\, 29210\, United States
CATEGORIES:Reptile Show
ATTACH;FMTTYPE=image/jpeg:https://zoomed.com/wp-content/uploads/repticon.jpeg
GEO:34.04874;-81.12337
X-APPLE-STRUCTURED-LOCATION;VALUE=URI;X-ADDRESS=Jamil Temple 206 Jamil Rd Columbia SC 29210 United States;X-APPLE-RADIUS=500;X-TITLE=206 Jamil Rd:geo:-81.12337,34.04874
END:VEVENT
END:VCALENDAR