BEGIN:VCALENDAR
VERSION:2.0
PRODID:-//Zoo Med Laboratories, Inc. - ECPv6.15.17.1//NONSGML v1.0//EN
CALSCALE:GREGORIAN
METHOD:PUBLISH
X-ORIGINAL-URL:https://zoomed.com
X-WR-CALDESC:Events for Zoo Med Laboratories, Inc.
REFRESH-INTERVAL;VALUE=DURATION:PT1H
X-Robots-Tag:noindex
X-PUBLISHED-TTL:PT1H
BEGIN:VTIMEZONE
TZID:America/Los_Angeles
BEGIN:DAYLIGHT
TZOFFSETFROM:-0800
TZOFFSETTO:-0700
TZNAME:PDT
DTSTART:20250309T100000
END:DAYLIGHT
BEGIN:STANDARD
TZOFFSETFROM:-0700
TZOFFSETTO:-0800
TZNAME:PST
DTSTART:20251102T090000
END:STANDARD
BEGIN:DAYLIGHT
TZOFFSETFROM:-0800
TZOFFSETTO:-0700
TZNAME:PDT
DTSTART:20260308T100000
END:DAYLIGHT
BEGIN:STANDARD
TZOFFSETFROM:-0700
TZOFFSETTO:-0800
TZNAME:PST
DTSTART:20261101T090000
END:STANDARD
BEGIN:DAYLIGHT
TZOFFSETFROM:-0800
TZOFFSETTO:-0700
TZNAME:PDT
DTSTART:20270314T100000
END:DAYLIGHT
BEGIN:STANDARD
TZOFFSETFROM:-0700
TZOFFSETTO:-0800
TZNAME:PST
DTSTART:20271107T090000
END:STANDARD
END:VTIMEZONE
BEGIN:VEVENT
DTSTART;VALUE=DATE:20260627
DTEND;VALUE=DATE:20260629
DTSTAMP:20260421T131928
CREATED:20221207T215618Z
LAST-MODIFIED:20251215T180015Z
UID:33763-1782518400-1782691199@zoomed.com
SUMMARY:Western Canadian Reptile Expo
DESCRIPTION:Western Canada’s largest reptile expo brings some of the biggest vendors\, and a huge variety of reptile breeders and suppliers from all across Canada…. And even some special guests all the way from Europe! Come and see some of the most unique reptiles\, amphibians and invertebrates ever held in captivity. Not only will you see an endless menagerie of reptiles and amphibians – vendors offer the quality feeders\, food\, habitats and healthcare products in order for you to provide the best quality of life for these animals! The wealth of knowledge available at this show is amazing. This event happens once a year and is truly an event NOT to be missed.
URL:https://zoomed.com/event/western-canadian-reptile-expo-june-2026/
LOCATION:Medicine Hat Stampede Grounds\, 2055 21 Ave SE\, Medicine Hat\, Alberta\, T1B 1A5\, Canada
CATEGORIES:Reptile Show
ATTACH;FMTTYPE=image/jpeg:https://zoomed.com/wp-content/uploads/WCRE-logo.jpg
GEO:50.020134441075;-110.65123355822
X-APPLE-STRUCTURED-LOCATION;VALUE=URI;X-ADDRESS=Medicine Hat Stampede Grounds 2055 21 Ave SE Medicine Hat Alberta T1B 1A5 Canada;X-APPLE-RADIUS=500;X-TITLE=2055 21 Ave SE:geo:-110.65123355822,50.020134441075
END:VEVENT
END:VCALENDAR