BEGIN:VCALENDAR
VERSION:2.0
PRODID:-//Zoo Med Laboratories, Inc. - ECPv6.15.17.1//NONSGML v1.0//EN
CALSCALE:GREGORIAN
METHOD:PUBLISH
X-ORIGINAL-URL:https://zoomed.com
X-WR-CALDESC:Events for Zoo Med Laboratories, Inc.
REFRESH-INTERVAL;VALUE=DURATION:PT1H
X-Robots-Tag:noindex
X-PUBLISHED-TTL:PT1H
BEGIN:VTIMEZONE
TZID:America/Los_Angeles
BEGIN:DAYLIGHT
TZOFFSETFROM:-0800
TZOFFSETTO:-0700
TZNAME:PDT
DTSTART:20240310T100000
END:DAYLIGHT
BEGIN:STANDARD
TZOFFSETFROM:-0700
TZOFFSETTO:-0800
TZNAME:PST
DTSTART:20241103T090000
END:STANDARD
BEGIN:DAYLIGHT
TZOFFSETFROM:-0800
TZOFFSETTO:-0700
TZNAME:PDT
DTSTART:20250309T100000
END:DAYLIGHT
BEGIN:STANDARD
TZOFFSETFROM:-0700
TZOFFSETTO:-0800
TZNAME:PST
DTSTART:20251102T090000
END:STANDARD
BEGIN:DAYLIGHT
TZOFFSETFROM:-0800
TZOFFSETTO:-0700
TZNAME:PDT
DTSTART:20260308T100000
END:DAYLIGHT
BEGIN:STANDARD
TZOFFSETFROM:-0700
TZOFFSETTO:-0800
TZNAME:PST
DTSTART:20261101T090000
END:STANDARD
END:VTIMEZONE
BEGIN:VEVENT
DTSTART;VALUE=DATE:20250405
DTEND;VALUE=DATE:20250407
DTSTAMP:20260421T164850
CREATED:20241216T175219Z
LAST-MODIFIED:20241216T180137Z
UID:9004111224210884-1743811200-1743983999@zoomed.com
SUMMARY:Reptilian Nation Expo
DESCRIPTION:Salt Lake City reptile show with thousands of reptiles\, amphibians\, invertebrates\, and more in over 100\,000 square feet of space. There will be presentations in addition to the TONS of animals! Doors are open Saturday 10-6 and Sunday 10-5.
URL:https://zoomed.com/event/reptilian-nation-expo-2025/
LOCATION:Mountain America Expo Center\, 9575 State St\, Sandy\, UT\, 84070\, United States
CATEGORIES:Reptile Show
ATTACH;FMTTYPE=image/jpeg:https://zoomed.com/wp-content/uploads/reptilian-nation-expo.jpg
GEO:40.578879144902;-111.88818350282
X-APPLE-STRUCTURED-LOCATION;VALUE=URI;X-ADDRESS=Mountain America Expo Center 9575 State St Sandy UT 84070 United States;X-APPLE-RADIUS=500;X-TITLE=9575 State St:geo:-111.88818350282,40.578879144902
END:VEVENT
END:VCALENDAR