BEGIN:VCALENDAR
VERSION:2.0
PRODID:-//Zoo Med Laboratories, Inc. - ECPv6.15.17.1//NONSGML v1.0//EN
CALSCALE:GREGORIAN
METHOD:PUBLISH
X-WR-CALNAME:Zoo Med Laboratories, Inc.
X-ORIGINAL-URL:https://zoomed.com
X-WR-CALDESC:Events for Zoo Med Laboratories, Inc.
REFRESH-INTERVAL;VALUE=DURATION:PT1H
X-Robots-Tag:noindex
X-PUBLISHED-TTL:PT1H
BEGIN:VTIMEZONE
TZID:America/Los_Angeles
BEGIN:DAYLIGHT
TZOFFSETFROM:-0800
TZOFFSETTO:-0700
TZNAME:PDT
DTSTART:20230312T100000
END:DAYLIGHT
BEGIN:STANDARD
TZOFFSETFROM:-0700
TZOFFSETTO:-0800
TZNAME:PST
DTSTART:20231105T090000
END:STANDARD
BEGIN:DAYLIGHT
TZOFFSETFROM:-0800
TZOFFSETTO:-0700
TZNAME:PDT
DTSTART:20240310T100000
END:DAYLIGHT
BEGIN:STANDARD
TZOFFSETFROM:-0700
TZOFFSETTO:-0800
TZNAME:PST
DTSTART:20241103T090000
END:STANDARD
BEGIN:DAYLIGHT
TZOFFSETFROM:-0800
TZOFFSETTO:-0700
TZNAME:PDT
DTSTART:20250309T100000
END:DAYLIGHT
BEGIN:STANDARD
TZOFFSETFROM:-0700
TZOFFSETTO:-0800
TZNAME:PST
DTSTART:20251102T090000
END:STANDARD
END:VTIMEZONE
BEGIN:VEVENT
DTSTART;VALUE=DATE:20240601
DTEND;VALUE=DATE:20240603
DTSTAMP:20260421T164324
CREATED:20231211T210457Z
LAST-MODIFIED:20231211T210457Z
UID:9004111224206201-1717200000-1717372799@zoomed.com
SUMMARY:ReptiCon Costa Mesa
DESCRIPTION:Join us in Costa Mesa\, CA for ReptiCon! Doors are open 9-4 Saturday and 10-4 Sunday. See live animals from around the world\, purchase pets and pet products direct from the experts at amazing prices you won’t find anywhere else\, and learn more about reptiles and exotic animals at live seminars and demonstrations.
URL:https://zoomed.com/event/repticon-costa-mesa/
LOCATION:OC Fair & Event Center\, 88 Fair Drive\, Costa Mesa\, CA\, 92626\, United States
CATEGORIES:Reptile Show
ATTACH;FMTTYPE=image/jpeg:https://zoomed.com/wp-content/uploads/repticon2.jpeg
GEO:33.665953;-117.901754
X-APPLE-STRUCTURED-LOCATION;VALUE=URI;X-ADDRESS=OC Fair & Event Center 88 Fair Drive Costa Mesa CA 92626 United States;X-APPLE-RADIUS=500;X-TITLE=88 Fair Drive:geo:-117.901754,33.665953
END:VEVENT
END:VCALENDAR