BEGIN:VCALENDAR
VERSION:2.0
PRODID:-//Zoo Med Laboratories, Inc. - ECPv6.15.17.1//NONSGML v1.0//EN
CALSCALE:GREGORIAN
METHOD:PUBLISH
X-ORIGINAL-URL:https://zoomed.com
X-WR-CALDESC:Events for Zoo Med Laboratories, Inc.
REFRESH-INTERVAL;VALUE=DURATION:PT1H
X-Robots-Tag:noindex
X-PUBLISHED-TTL:PT1H
BEGIN:VTIMEZONE
TZID:America/Los_Angeles
BEGIN:DAYLIGHT
TZOFFSETFROM:-0800
TZOFFSETTO:-0700
TZNAME:PDT
DTSTART:20230312T100000
END:DAYLIGHT
BEGIN:STANDARD
TZOFFSETFROM:-0700
TZOFFSETTO:-0800
TZNAME:PST
DTSTART:20231105T090000
END:STANDARD
BEGIN:DAYLIGHT
TZOFFSETFROM:-0800
TZOFFSETTO:-0700
TZNAME:PDT
DTSTART:20240310T100000
END:DAYLIGHT
BEGIN:STANDARD
TZOFFSETFROM:-0700
TZOFFSETTO:-0800
TZNAME:PST
DTSTART:20241103T090000
END:STANDARD
BEGIN:DAYLIGHT
TZOFFSETFROM:-0800
TZOFFSETTO:-0700
TZNAME:PDT
DTSTART:20250309T100000
END:DAYLIGHT
BEGIN:STANDARD
TZOFFSETFROM:-0700
TZOFFSETTO:-0800
TZNAME:PST
DTSTART:20251102T090000
END:STANDARD
BEGIN:DAYLIGHT
TZOFFSETFROM:-0800
TZOFFSETTO:-0700
TZNAME:PDT
DTSTART:20260308T100000
END:DAYLIGHT
BEGIN:STANDARD
TZOFFSETFROM:-0700
TZOFFSETTO:-0800
TZNAME:PST
DTSTART:20261101T090000
END:STANDARD
BEGIN:DAYLIGHT
TZOFFSETFROM:-0800
TZOFFSETTO:-0700
TZNAME:PDT
DTSTART:20270314T100000
END:DAYLIGHT
BEGIN:STANDARD
TZOFFSETFROM:-0700
TZOFFSETTO:-0800
TZNAME:PST
DTSTART:20271107T090000
END:STANDARD
END:VTIMEZONE
BEGIN:VEVENT
DTSTART;TZID=America/Los_Angeles:20260328T100000
DTEND;TZID=America/Los_Angeles:20260328T160000
DTSTAMP:20260421T164722
CREATED:20221122T210421Z
LAST-MODIFIED:20251215T172953Z
UID:33554-1774692000-1774713600@zoomed.com
SUMMARY:Rexpo
DESCRIPTION:REXPO has captive bred reptiles\, amphibians\, arachnids\, other invertebrates and some rarer mammals in the hobby. Let’s not forget that REXPO offers every type of feeder on the market to keep your pets healthy for years to come!
URL:https://zoomed.com/event/rexpo/
LOCATION:The ROC Dome Arena\, 2695 E Henrietta Rd\, Henrietta\, NY\, 14467\, United States
CATEGORIES:Reptile Show
ATTACH;FMTTYPE=image/png:https://zoomed.com/wp-content/uploads/rexpo.png
GEO:43.065780796389;-77.613236473878
X-APPLE-STRUCTURED-LOCATION;VALUE=URI;X-ADDRESS=The ROC Dome Arena 2695 E Henrietta Rd Henrietta NY 14467 United States;X-APPLE-RADIUS=500;X-TITLE=2695 E Henrietta Rd:geo:-77.613236473878,43.065780796389
END:VEVENT
BEGIN:VEVENT
DTSTART;TZID=America/Los_Angeles:20241026T100000
DTEND;TZID=America/Los_Angeles:20241026T160000
DTSTAMP:20260421T164722
CREATED:20231211T231043Z
LAST-MODIFIED:20231211T231043Z
UID:9004111224206250-1729936800-1729958400@zoomed.com
SUMMARY:Rexpo
DESCRIPTION:REXPO has captive bred reptiles\, amphibians\, arachnids\, other invertebrates and some rarer mammals in the hobby. Let’s not forget that REXPO offers every type of feeder on the market to keep your pets healthy for years to come!
URL:https://zoomed.com/event/rexpo-october-2024/
LOCATION:The ROC Dome Arena\, 2695 E Henrietta Rd\, Henrietta\, NY\, 14467\, United States
CATEGORIES:Reptile Show
ATTACH;FMTTYPE=image/png:https://zoomed.com/wp-content/uploads/rexpo.png
GEO:43.065780796389;-77.613236473878
X-APPLE-STRUCTURED-LOCATION;VALUE=URI;X-ADDRESS=The ROC Dome Arena 2695 E Henrietta Rd Henrietta NY 14467 United States;X-APPLE-RADIUS=500;X-TITLE=2695 E Henrietta Rd:geo:-77.613236473878,43.065780796389
END:VEVENT
BEGIN:VEVENT
DTSTART;TZID=America/Los_Angeles:20240713T000000
DTEND;TZID=America/Los_Angeles:20240713T000000
DTSTAMP:20260421T164722
CREATED:20231211T212934Z
LAST-MODIFIED:20231211T213131Z
UID:9004111224206210-1720828800-1720828800@zoomed.com
SUMMARY:Rexpo
DESCRIPTION:REXPO has captive bred reptiles\, amphibians\, arachnids\, other invertebrates and some rarer mammals in the hobby. Let’s not forget that REXPO offers every type of feeder on the market to keep your pets healthy for years to come!
URL:https://zoomed.com/event/rexpo-july-2024/
LOCATION:The ROC Dome Arena\, 2695 E Henrietta Rd\, Henrietta\, NY\, 14467\, United States
CATEGORIES:Reptile Show
ATTACH;FMTTYPE=image/png:https://zoomed.com/wp-content/uploads/rexpo.png
GEO:43.065780796389;-77.613236473878
X-APPLE-STRUCTURED-LOCATION;VALUE=URI;X-ADDRESS=The ROC Dome Arena 2695 E Henrietta Rd Henrietta NY 14467 United States;X-APPLE-RADIUS=500;X-TITLE=2695 E Henrietta Rd:geo:-77.613236473878,43.065780796389
END:VEVENT
END:VCALENDAR