BEGIN:VCALENDAR
VERSION:2.0
PRODID:-//Zoo Med Laboratories, Inc. - ECPv6.15.17.1//NONSGML v1.0//EN
CALSCALE:GREGORIAN
METHOD:PUBLISH
X-WR-CALNAME:Zoo Med Laboratories, Inc.
X-ORIGINAL-URL:https://zoomed.com
X-WR-CALDESC:Events for Zoo Med Laboratories, Inc.
REFRESH-INTERVAL;VALUE=DURATION:PT1H
X-Robots-Tag:noindex
X-PUBLISHED-TTL:PT1H
BEGIN:VTIMEZONE
TZID:America/Los_Angeles
BEGIN:DAYLIGHT
TZOFFSETFROM:-0800
TZOFFSETTO:-0700
TZNAME:PDT
DTSTART:20250309T100000
END:DAYLIGHT
BEGIN:STANDARD
TZOFFSETFROM:-0700
TZOFFSETTO:-0800
TZNAME:PST
DTSTART:20251102T090000
END:STANDARD
BEGIN:DAYLIGHT
TZOFFSETFROM:-0800
TZOFFSETTO:-0700
TZNAME:PDT
DTSTART:20260308T100000
END:DAYLIGHT
BEGIN:STANDARD
TZOFFSETFROM:-0700
TZOFFSETTO:-0800
TZNAME:PST
DTSTART:20261101T090000
END:STANDARD
BEGIN:DAYLIGHT
TZOFFSETFROM:-0800
TZOFFSETTO:-0700
TZNAME:PDT
DTSTART:20270314T100000
END:DAYLIGHT
BEGIN:STANDARD
TZOFFSETFROM:-0700
TZOFFSETTO:-0800
TZNAME:PST
DTSTART:20271107T090000
END:STANDARD
END:VTIMEZONE
BEGIN:VEVENT
DTSTART;VALUE=DATE:20261010
DTEND;VALUE=DATE:20261012
DTSTAMP:20260424T094723
CREATED:20221207T222636Z
LAST-MODIFIED:20251215T192335Z
UID:33790-1791590400-1791763199@zoomed.com
SUMMARY:NARBC Tinley Park
DESCRIPTION:The North American Reptile Breeders Conference & Trade Show is a Trade Show where many of the top breeders from all over the World come to showcase & sell their Captive Born Reptiles to the public. If you want to see the Worlds Best Breeders\, dry goods manufacturers\, cricket growers\, art dealers and clothing manufacturers this is the place to do it at DEEPLY discounted breeder direct pricing. GREAT FAMILY EVENT! \n  \nDoors are open Saturday 10-5 and Sunday 11-4.
URL:https://zoomed.com/event/narbc-tinley-park-october-2026/
LOCATION:Tinley Park Convention Center\, 18451 Convention Center Drive\, Tinley Park\, IL\, 60477\, United States
CATEGORIES:Reptile Show
ATTACH;FMTTYPE=image/jpeg:https://zoomed.com/wp-content/uploads/narbc-logo.jpg
GEO:41.555712;-87.788401
X-APPLE-STRUCTURED-LOCATION;VALUE=URI;X-ADDRESS=Tinley Park Convention Center 18451 Convention Center Drive Tinley Park IL 60477 United States;X-APPLE-RADIUS=500;X-TITLE=18451 Convention Center Drive:geo:-87.788401,41.555712
END:VEVENT
END:VCALENDAR