BEGIN:VCALENDAR
VERSION:2.0
PRODID:-//Zoo Med Laboratories, Inc. - ECPv6.15.17.1//NONSGML v1.0//EN
CALSCALE:GREGORIAN
METHOD:PUBLISH
X-ORIGINAL-URL:https://zoomed.com
X-WR-CALDESC:Events for Zoo Med Laboratories, Inc.
REFRESH-INTERVAL;VALUE=DURATION:PT1H
X-Robots-Tag:noindex
X-PUBLISHED-TTL:PT1H
BEGIN:VTIMEZONE
TZID:America/Los_Angeles
BEGIN:DAYLIGHT
TZOFFSETFROM:-0800
TZOFFSETTO:-0700
TZNAME:PDT
DTSTART:20250309T100000
END:DAYLIGHT
BEGIN:STANDARD
TZOFFSETFROM:-0700
TZOFFSETTO:-0800
TZNAME:PST
DTSTART:20251102T090000
END:STANDARD
BEGIN:DAYLIGHT
TZOFFSETFROM:-0800
TZOFFSETTO:-0700
TZNAME:PDT
DTSTART:20260308T100000
END:DAYLIGHT
BEGIN:STANDARD
TZOFFSETFROM:-0700
TZOFFSETTO:-0800
TZNAME:PST
DTSTART:20261101T090000
END:STANDARD
BEGIN:DAYLIGHT
TZOFFSETFROM:-0800
TZOFFSETTO:-0700
TZNAME:PDT
DTSTART:20270314T100000
END:DAYLIGHT
BEGIN:STANDARD
TZOFFSETFROM:-0700
TZOFFSETTO:-0800
TZNAME:PST
DTSTART:20271107T090000
END:STANDARD
END:VTIMEZONE
BEGIN:VEVENT
DTSTART;VALUE=DATE:20260418
DTEND;VALUE=DATE:20260420
DTSTAMP:20260423T093824
CREATED:20221207T212141Z
LAST-MODIFIED:20251215T173355Z
UID:33752-1776470400-1776643199@zoomed.com
SUMMARY:Pacific Northwest Reptile Show Hillsboro
DESCRIPTION:The Pacific NW Reptile and Exotic Animal Show is a public trade show and is the largest of its kind in the Pacific Northwest.  There are four shows annually\, alternating every three months between Hillsboro\, OR and Puyallup\, WA. Both venues boast nearly 100 vendors occupying over 25000 sq. ft. of venue space \nIn addition to animals and their related merchandise for sale\, PACNWRS events provide the best educational displays available in the area. PACNWRS events are a great weekend for the beginner keeper to the advanced hobbyist\, and everyone in between. Bring the whole family for a truly unique experience! \nAs a family-friendly event we try to provide activities and education for guests of all ages and interests. There is always something exciting happening at the Pacific NW Reptile and Exotic Animal Show! \n  \nDoors are open Saturday 10-5 and Sunday 10-4.
URL:https://zoomed.com/event/pacific-northwest-reptile-show-hillsboro-2026/
LOCATION:Westside Commons\, 873 NE 34th Ave\, Hillsboro\, OR\, 97124\, United States
CATEGORIES:Reptile Show
ATTACH;FMTTYPE=image/jpeg:https://zoomed.com/wp-content/uploads/pacnwrs-logo.jpeg
GEO:45.530033;-122.946253
X-APPLE-STRUCTURED-LOCATION;VALUE=URI;X-ADDRESS=Westside Commons 873 NE 34th Ave Hillsboro OR 97124 United States;X-APPLE-RADIUS=500;X-TITLE=873 NE 34th Ave:geo:-122.946253,45.530033
END:VEVENT
END:VCALENDAR